BEGIN:VCALENDAR
VERSION:2.0
PRODID:-//VILA - Blog - ECPv4.5.12.2//NONSGML v1.0//EN
CALSCALE:GREGORIAN
METHOD:PUBLISH
X-WR-CALNAME:VILA - Blog
X-ORIGINAL-URL:https://blog.livrariadavila.com.br
X-WR-CALDESC:Events for VILA - Blog
BEGIN:VEVENT
DTSTART;TZID=America/Sao_Paulo:20191028T183000
DTEND;TZID=America/Sao_Paulo:20191028T213000
DTSTAMP:20260421T212835
CREATED:20191003T143936Z
LAST-MODIFIED:20191028T141115Z
UID:99583-1572287400-1572298200@blog.livrariadavila.com.br
SUMMARY:Por que lutamos?
DESCRIPTION: \nUm livro sobre feminismo. Através do olhar amoroso\, da acolhida generosa\, do entendimento de que este é um assunto de todas\, todos\, todxs nós. Não pretende ser uma bíblia do feminismo\, mas sim\, uma conversa\, um abraço\, um ponto de apoio\, um boas-vindas pra quem acaba de chegar\, um “que bom que você está aqui” pra quem já anda cansada de lutar. Escrito em tom de conversa\, traz referências\, sugere reflexões\, desfaz o medo. \n  \nDe Manuela D’ávila \nEd. Planeta \n  \n  \n  \n  \n  \n  \n  \n  \n  \nREGRAS DE PARTICIPAÇÃO DO EVENTO: \n\nPoderão participar do bate-papo todos os que estiverem com a senha.\nAs senhas serão disponibilizadas mediante a compra do livro\, a partir das 18h no dia do evento\, na Livraria da Vila da Fradique Coutinho\, em São Paulo.\nA compra do livro da direito a uma senha para assistir o bate-papo.\nA apresentação da senha é obrigatória. No caso de extravio da senha\, esta não será substituída e o portador perderá o direito de participar do evento.\nA senha é pessoal e intransferível e sua apresentação é obrigatória.\nNão serão permitidos autógrafos em marcadores de livros\, pedaços de papel\, etc;\nFotos de celular e câmeras pessoais serão permitidas.\nOs autógrafos serão concedidos por uma fila mediante a ordem de chegada.\nOs clientes que possuem senha deverão pegar a fila para os autógrafos.\n\n
URL:https://blog.livrariadavila.com.br/event/por-que-lutamos/
LOCATION:Rua Fradique Coutinho\, 915 - Pinheiros\, São Paulo\, São Paulo\, 05416-011\, Brasil
GEO:-23.5592934;-46.6892019
X-APPLE-STRUCTURED-LOCATION;VALUE=URI;X-ADDRESS=Rua Fradique Coutinho 915 - Pinheiros São Paulo São Paulo 05416-011 Brasil;X-APPLE-RADIUS=500;X-TITLE=Rua Fradique Coutinho\, 915 - Pinheiros:geo:-46.6892019,-23.5592934
CATEGORIES:LANÇAMENTOS,SESSÕES DE AUTÓGRAFOS
END:VEVENT
END:VCALENDAR