BEGIN:VCALENDAR
VERSION:2.0
PRODID:-//VILA - Blog - ECPv4.5.12.2//NONSGML v1.0//EN
CALSCALE:GREGORIAN
METHOD:PUBLISH
X-WR-CALNAME:VILA - Blog
X-ORIGINAL-URL:https://blog.livrariadavila.com.br
X-WR-CALDESC:Events for VILA - Blog
BEGIN:VEVENT
DTSTART;TZID=America/Sao_Paulo:20230923T170000
DTEND;TZID=America/Sao_Paulo:20230923T210000
DTSTAMP:20260419T151957
CREATED:20230918T135947Z
LAST-MODIFIED:20230922T201046Z
UID:119440-1695488400-1695502800@blog.livrariadavila.com.br
SUMMARY:POTÊNCIA EMPREENDEDORA - ANDRÉ DUEK – ED. GENTE
DESCRIPTION:\n\n\n\n\n\n\nEXPLORE O SEU POTENCIAL MÁXIMO PARA GERAR RESULTADOS EXCELENTES! Com histórias reais e insights valiosos\, André Duek\, ex- CEO do Grupo Forum-Triton\, compartilha todos os seus ensinamentos que acumulou em sua brilhante trajetória de mais de trinta e cinco anos como executivo e empreendedor serial. Em Potência empreendedora o leitor acessará um guia confiável para tomar as decisões mais acertadas e aumentar suas chances de sucesso! Você aprenderá como: Estruturar estratégias eficientes e operações simplificadas para alavancar sua carreira enquanto intraempreendedor e chegar ao C-level; Empreender do zero\, com orientações práticas sobre como começar um negócio de forma enxuta e evitar armadilhas comuns; Superar obstáculos e levar seus empreendimentos a outro patamar\, para retomar o crescimento de um negócio que estagnou; Desenvolver suas habilidades de liderança\, networking\, gestão financeira e internacionalização de negócios; Praticar o mindset de evolução constante para direcionar seu comportamento e gerar resultados excelentes\, explorando seu potencial máximo.\n\n\n\n\n
URL:https://blog.livrariadavila.com.br/event/potencia-empreendedora-andre-duek-ed-gente-2/
LOCATION:Av. Regente Feijó\, nº 1739 – Loja L11 – Vl.\, São Paulo\, São Paulo\, 03342-900
END:VEVENT
END:VCALENDAR