BEGIN:VCALENDAR
VERSION:2.0
PRODID:-//VILA - Blog - ECPv4.5.12.2//NONSGML v1.0//EN
CALSCALE:GREGORIAN
METHOD:PUBLISH
X-WR-CALNAME:VILA - Blog
X-ORIGINAL-URL:https://blog.livrariadavila.com.br
X-WR-CALDESC:Events for VILA - Blog
BEGIN:VEVENT
DTSTART;TZID=America/Sao_Paulo:20191019T150000
DTEND;TZID=America/Sao_Paulo:20191019T180000
DTSTAMP:20260421T145933
CREATED:20191003T145403Z
LAST-MODIFIED:20191003T145403Z
UID:99595-1571497200-1571508000@blog.livrariadavila.com.br
SUMMARY:Prisões\, pessoas presas e justiça penal
DESCRIPTION: \nAs prisões\, desde suas formas mais arcaicas até as que conhecemos atualmente\, continuam a ser locais infernais\, nos quais é impossível\, a quem lá está\, deixar de viver um gradual processo de mortificação\, ou mesmo de morte real em algumas situações. A sociedade tecnológica do século XXI inovou\, mas não encontrou uma saída menos violenta para acolher criminosos. Nos tempos atuais\, pode parecer estranha a preocupação com as necessidades das pessoas encarceradas\, e talvez mais comum o fato da prisão só não ser um lugar de maior invisibilidade para o poder público porque existe o discurso oficial do direito à assistência e do compromisso social da reintegração. No entanto\, quem percorre os corredores dessas sombrias instituições sabe que na realidade elas continuam com sua vocação de reprodução de criminalidade e preocupação preponderante com a segurança. Certa vez\, em uma palestra\, Alvino Augusto de Sá perguntou ao público: “Quem tem algo novo a dizer sobre a prisão?” Na tentativa ousada de responder essa pergunta\, este livro apresenta produções de autores que se arriscam a propor alternativas compreensivas aos pensamentos e às práticas cotidianas no acompanhamento da execução de penas de privação de liberdade\, ou alternativas a elas. Refletir e propor alternativas que nos levem mais adiante e para fora das prisões da mesmice e da rigidez\, é para os autores um compromisso sério. Esperamos com este livro colaborar para novas reflexões no âmbito do Direito\, da Psicologia\, do Serviço Social\, além de outras áreas que se voltem ao estudo das prisões e do acompanhamento de pessoas encarceradas. \n  \nDe Rosalice Lopes e Altiere Duarte Ponciano Lima \nEd. CRV \n
URL:https://blog.livrariadavila.com.br/event/prisoes-pessoas-presas-e-justica-penal/
LOCATION:Rua Fradique Coutinho\, 915 - Pinheiros\, São Paulo\, São Paulo\, 05416-011\, Brasil
GEO:-23.5592934;-46.6892019
X-APPLE-STRUCTURED-LOCATION;VALUE=URI;X-ADDRESS=Rua Fradique Coutinho 915 - Pinheiros São Paulo São Paulo 05416-011 Brasil;X-APPLE-RADIUS=500;X-TITLE=Rua Fradique Coutinho\, 915 - Pinheiros:geo:-46.6892019,-23.5592934
CATEGORIES:LANÇAMENTOS,SESSÕES DE AUTÓGRAFOS
END:VEVENT
END:VCALENDAR