BEGIN:VCALENDAR
VERSION:2.0
PRODID:-//VILA - Blog - ECPv4.5.12.2//NONSGML v1.0//EN
CALSCALE:GREGORIAN
METHOD:PUBLISH
X-WR-CALNAME:VILA - Blog
X-ORIGINAL-URL:https://blog.livrariadavila.com.br
X-WR-CALDESC:Events for VILA - Blog
BEGIN:VEVENT
DTSTART;TZID=America/Sao_Paulo:20221201T170000
DTEND;TZID=America/Sao_Paulo:20221201T210000
DTSTAMP:20260424T014323
CREATED:20221104T195952Z
LAST-MODIFIED:20221108T134204Z
UID:115918-1669914000-1669928400@blog.livrariadavila.com.br
SUMMARY:PROPRIEDADE INTELECTUAL NO CINEMA E ESTUDOS DE DIREITO AUTORAL EM HOMENAGEM A HILDEBRANDO PONTES - ANTONIO CARLOS MORATO\, RODRIGO MORAES E LEONARDO MACHADO PONTES - ED. EDUFBA E ED. LUMEN JURIS
DESCRIPTION: \n  \nA obra é uma coletânea de artigos que reúnem e analisam filmes nacionais e estrangeiros que abordam o Direito Intelectual. Esse ramo jurídico\, mais conhecido como Direito da Propriedade Intelectual\, engloba o Direito Autoral e a Propriedade Industrial. Um dos principais objetivos dessa obra é incentivar o estudo da Propriedade Intelectual no ambiente universitário\, numa visão interdisciplinar\, preocupando-se com a discussão do conteúdo dos filmes selecionados. \n  \n \n  \nO jurista goiano/mineiro Hildebrando Pontes Neto recebe merecida homenagem de seus Colegas do meio jurídico\, especialistas em direito de autor\, consistente em compilação de escritos sobre a matéria\, reunidas em um livro\, com cuidadosa coor denação dos advogados e professores Leonardo Machado Pontes e Rodrigo Moraes. \n
URL:https://blog.livrariadavila.com.br/event/propriedade-intelectual-no-cinema-e-estudos-de-direito-autoral-em-homenagem-a-hildebrando-pontes-antonio-carlos-morato-rodrigo-moares-e-leonardo-machado-pontes-ed-edufba-e-ed-lumen-juris/
LOCATION:R. Treze de Maio\, 1947 - Bela Vista\, São Paulo\, São Paulo\, 01327-900
END:VEVENT
END:VCALENDAR