BEGIN:VCALENDAR
VERSION:2.0
PRODID:-//VILA - Blog - ECPv4.5.12.2//NONSGML v1.0//EN
CALSCALE:GREGORIAN
METHOD:PUBLISH
X-WR-CALNAME:VILA - Blog
X-ORIGINAL-URL:https://blog.livrariadavila.com.br
X-WR-CALDESC:Events for VILA - Blog
BEGIN:VEVENT
DTSTART;TZID=America/Sao_Paulo:20190410T183000
DTEND;TZID=America/Sao_Paulo:20190410T213000
DTSTAMP:20260420T171235
CREATED:20190402T140905Z
LAST-MODIFIED:20190402T140905Z
UID:95972-1554921000-1554931800@blog.livrariadavila.com.br
SUMMARY:Rastros
DESCRIPTION:Composto por 54 conjuntos de fotografias e poemas\, o livro Rastros é uma sensível homenagem às miudezas do dia a dia\, construída a partir de sons\, texturas e detalhes iluminados em preto e branco. Atílio Avancini e Sérgio Avancine\, responsáveis\, respectivamente\, pelas fotografias de vestígios ou sinais e pelos poemas minimalistas\, revelam as essências vividas no que há de\ndespercebido na rotina – uma joia\, a insônia\, a areia na praia de Salvador\, a Lua imponente na metrópole paulista.  A ideia que originou a obra surgiu a partir de um encontro feliz de rascunhos dos primos e também amigos de infância. Rastros\, o primeiro ensaio fotográfico de Atílio\, foi selecionado para exposição no Centro Cultural São Paulo em 1986. Anos depois\, a combinação das fotos com os poemas de Sérgio\, num chão de sala compartilhada entre os autores\, transformou o resultado em livro. “Atentos aos súbitos encantos que eclodem no cotidiano\, aos pequenos lances escondidos na dobra das coisas\, eles também souberam juntar as riquezas que agora estão em nossas mãos”\, escreve Nestor Müller sobre os autores. Ainda na apresentação do livro\, este filósofo e professor arremata: “O que aqui pode se enxergar nos lúcidos poemas\, e ler nas densas fotografias\, entrega-se como seiva fluindo em velha árvore.” \nDe Atílio Avancini e Sérgio Avancine \nEd. Com Arte \n
URL:https://blog.livrariadavila.com.br/event/rastros/
LOCATION:Rua Fradique Coutinho\, 915 - Pinheiros\, São Paulo\, São Paulo\, 05416-011\, Brasil
GEO:-23.5592934;-46.6892019
X-APPLE-STRUCTURED-LOCATION;VALUE=URI;X-ADDRESS=Rua Fradique Coutinho 915 - Pinheiros São Paulo São Paulo 05416-011 Brasil;X-APPLE-RADIUS=500;X-TITLE=Rua Fradique Coutinho\, 915 - Pinheiros:geo:-46.6892019,-23.5592934
CATEGORIES:LANÇAMENTOS,SESSÕES DE AUTÓGRAFOS
END:VEVENT
END:VCALENDAR