BEGIN:VCALENDAR
VERSION:2.0
PRODID:-//VILA - Blog - ECPv4.5.12.2//NONSGML v1.0//EN
CALSCALE:GREGORIAN
METHOD:PUBLISH
X-WR-CALNAME:VILA - Blog
X-ORIGINAL-URL:https://blog.livrariadavila.com.br
X-WR-CALDESC:Events for VILA - Blog
BEGIN:VEVENT
DTSTART;TZID=America/Sao_Paulo:20190426T183000
DTEND;TZID=America/Sao_Paulo:20190426T213000
DTSTAMP:20260421T005449
CREATED:20190327T155413Z
LAST-MODIFIED:20190426T124736Z
UID:95803-1556303400-1556314200@blog.livrariadavila.com.br
SUMMARY:Ratio Decidendi e o sistema de precedentes no novo CPC
DESCRIPTION: Diante de um cenário onde a justiça é lenta e onerosa\, o NCPC trouxe a uniformização da jurisprudência como uma das propostas aptas a solucionar este empasse.\nEm outras palavras\, a Lei 13.105/2015 reitera em capítulos esparsos\, a necessidade de introduzir maior observância aos precedentes judiciais\, a fim de diminuir a constante aposta na “loteria jurídica” do judiciário.\nNa prática\, como estão sendo aplicados estes precedentes? A observância aos precedentes judiciais tem contribuído efetivamente a um julgamento mais célere e equânime? Qual a importância da Ratio Decidendi na aplicação dos precedentes judiciais?\nEstas e outras questões são abordadas nesta obra através de uma análise do sistema de precedentes sob a ótica do NCPC. \nDe Caroline Tavares \nEd. Lumen Juris \n
URL:https://blog.livrariadavila.com.br/event/ratio-decidenti-e-o-sistema-de-precedentes-no-novo-pc/
CATEGORIES:LANÇAMENTOS,SESSÕES DE AUTÓGRAFOS
END:VEVENT
END:VCALENDAR