BEGIN:VCALENDAR
VERSION:2.0
PRODID:-//VILA - Blog - ECPv4.5.12.2//NONSGML v1.0//EN
CALSCALE:GREGORIAN
METHOD:PUBLISH
X-WR-CALNAME:VILA - Blog
X-ORIGINAL-URL:https://blog.livrariadavila.com.br
X-WR-CALDESC:Events for VILA - Blog
BEGIN:VEVENT
DTSTART;TZID=America/Sao_Paulo:20240831T180000
DTEND;TZID=America/Sao_Paulo:20240831T210000
DTSTAMP:20260420T120848
CREATED:20240816T201754Z
LAST-MODIFIED:20240816T201754Z
UID:123773-1725127200-1725138000@blog.livrariadavila.com.br
SUMMARY:REALIZADOS - CAROL SHINODA E CAROL CAVALCANTI – ED. BENVIRÁ
DESCRIPTION: \nÉ um desafio vivermos com propósito e felicidade. E não há um caminho único para todas as pessoas seguirem\, pois cada uma tem seus próprios sonhos\, dificuldades e vive em um contexto singular\, com desafios\, dores\, alegrias e oportunidades. Neste livro\, vamos conhecer histórias de pessoas reais muito diferentes entre si (idade\, ocupação\, condição socioeconômica\, estado civil)\, mas que\, apesar de terem enfrentado desafios consideráveis\, exibem alguns comportamentos parecidos e conseguem sustentar vidas reais\, contribuindo com outras pessoas e sentindo-se felizes. Reunimos essas práticas pois cremos que podem ser inspiradoras para quem tiver acesso a esta leitura. Além das histórias\, trazemos pesquisas que embasam os conceitos discutidos no livro e convidamos você a fazer reflexões para que conecte às suas próprias vivências\, aos temas de Propósito e de Bem-Estar. A proposta aqui é mostrarmos a você caminhos para que possa fazer escolhas conscientes no dia a dia\, nutrindo-se das fontes de felicidade que apresentamos no livro e que fazem sentido para você\, e utilizando\, a seu favor\, os aprendizados sobre Propósito que extraímos das entrevistas. Que você possa construir uma vida real\, alinhada a quem você é\, com propósito e felicidade! \n
URL:https://blog.livrariadavila.com.br/event/realizados-carol-shinoda-e-carol-cavalcanti-ed-benvira/
LOCATION:Av. Roque Petroni Júnior\, 1089\, São Paulo\, São Paulo\, 04833001\, Brasil
END:VEVENT
END:VCALENDAR