BEGIN:VCALENDAR
VERSION:2.0
PRODID:-//VILA - Blog - ECPv4.5.12.2//NONSGML v1.0//EN
CALSCALE:GREGORIAN
METHOD:PUBLISH
X-WR-CALNAME:VILA - Blog
X-ORIGINAL-URL:https://blog.livrariadavila.com.br
X-WR-CALDESC:Events for VILA - Blog
BEGIN:VEVENT
DTSTART;TZID=America/Sao_Paulo:20191016T183000
DTEND;TZID=America/Sao_Paulo:20191016T213000
DTSTAMP:20260422T022700
CREATED:20191002T183514Z
LAST-MODIFIED:20191002T183554Z
UID:99566-1571250600-1571261400@blog.livrariadavila.com.br
SUMMARY:Relacionamento com clientes
DESCRIPTION:O livro trata de um tema do mais atual e relevante para a manutenção e perenidade de negócios: o relacionamento com clientes. Diversos especialistas contribuíram para esta obra oferecendo uma visão multidisciplinar sobre o processo de Governança de Relacionamento\, culminando com o entendimento da Jornada do Consumidor. As competências necessárias para o relacionamento com clientes em épocas da Sociedade da Informação exigem nesse sentido habilidades especificas\, tanto pessoais como técnicas. Para as competências pessoais a habilidade da escrita e da oratória\, juntamente com a compreensão dos dilemas éticos ligados ao atendimento e elementos de liderança\, gestão de tempo e sistemas de Mindfulness aplicados ao mundo corporativo compõem a contribuição dos autores. De outro lado\, questões ligadas a Direito do Consumidor\, Relacionamento com mídias sociais e imprensa\, Ouvidorias como canais de relacionamento e a compreensão da Jornada do Consumidor como sistema de desjudicialização completam as competências técnicas necessárias para oferecer ao clientes um atendimento de excelência. Esta obra é dedicada a todos que entendem relacionamento com clientes como fator estratégico e vital para uma justa harmonia na relação de consumo e como elemento determinante para perenidade e sustentabilidade de negócios. \n  \nDe Fábio Lopes Soares \nEd. Lumen Juris \n
URL:https://blog.livrariadavila.com.br/event/relacionamento-com-clientes/
CATEGORIES:LANÇAMENTOS,SESSÕES DE AUTÓGRAFOS
END:VEVENT
END:VCALENDAR