BEGIN:VCALENDAR
VERSION:2.0
PRODID:-//VILA - Blog - ECPv4.5.12.2//NONSGML v1.0//EN
CALSCALE:GREGORIAN
METHOD:PUBLISH
X-WR-CALNAME:VILA - Blog
X-ORIGINAL-URL:https://blog.livrariadavila.com.br
X-WR-CALDESC:Events for VILA - Blog
BEGIN:VEVENT
DTSTART;TZID=America/Sao_Paulo:20181016T183000
DTEND;TZID=America/Sao_Paulo:20181016T213000
DTSTAMP:20260422T155247
CREATED:20181001T180448Z
LAST-MODIFIED:20181001T180448Z
UID:22674-1539714600-1539725400@blog.livrariadavila.com.br
SUMMARY:Resiliência
DESCRIPTION:Emprestado da Física\, o termo resiliência é a propriedade que os materiais têm de voltar ao estado normal depois de submetidos a momentos de tensão ou choque. Hoje essa palavra ganhou notoriedade na psicologia\, na educação e até na administração. Todo mundo precisa ter resiliência\, ou seja\, precisa desenvolver a capacidade de lidar com problemas e superar dificuldades sem se deixar abalar. Neste livro em forma de caixinha estão 50 questões que vão levar você a pensar sobre os momentos difíceis da vida\, como lidar com eles e como não ceder às pressões do dia a dia. \nDe Fernando Fernandes \nEd. Matrix \n
URL:https://blog.livrariadavila.com.br/event/resiliencia/
LOCATION:Rua Fradique Coutinho\, 915 - Pinheiros\, São Paulo\, São Paulo\, 05416-011\, Brasil
GEO:-23.5592934;-46.6892019
X-APPLE-STRUCTURED-LOCATION;VALUE=URI;X-ADDRESS=Rua Fradique Coutinho 915 - Pinheiros São Paulo São Paulo 05416-011 Brasil;X-APPLE-RADIUS=500;X-TITLE=Rua Fradique Coutinho\, 915 - Pinheiros:geo:-46.6892019,-23.5592934
CATEGORIES:LANÇAMENTOS,SESSÕES DE AUTÓGRAFOS
END:VEVENT
END:VCALENDAR