BEGIN:VCALENDAR
VERSION:2.0
PRODID:-//VILA - Blog - ECPv4.5.12.2//NONSGML v1.0//EN
CALSCALE:GREGORIAN
METHOD:PUBLISH
X-WR-CALNAME:VILA - Blog
X-ORIGINAL-URL:https://blog.livrariadavila.com.br
X-WR-CALDESC:Events for VILA - Blog
BEGIN:VEVENT
DTSTART;TZID=America/Sao_Paulo:20221117T180000
DTEND;TZID=America/Sao_Paulo:20221117T210000
DTSTAMP:20260421T235551
CREATED:20221021T160321Z
LAST-MODIFIED:20221101T204510Z
UID:115753-1668708000-1668718800@blog.livrariadavila.com.br
SUMMARY:RISCO CONTRATUAL E SISTEMA ELETRÔNICO DE REGISTROS PÚBLICOS  - ALEXANDRE JUNQUEIRA GOMIDE E ANDRÉ ABELHA - ED. RT E ED. FORENSE
DESCRIPTION: \n  \nA obra tem por intuito o estudo do risco contratual\, tema pouco explorado pela doutrina brasileira e que possui repercussões relevantes ao direito contratual. A partir da compreensão de que o contrato é um instrumento que permite às partes alocarem os riscos contratuais\, o operador do direito passa a verificar a importância de ter pleno domínio dos mecanismos que permitem aos contratantes a gestão dos riscos contratuais. \n  \n \n  \nDa Lei 14.382/2022\, que estrutura o Sistema Eletrônico de Registros Públicos conforme os atuais recursos tecnológicos\, e altera a legislação correlata\, visando a atender às necessidades da sociedade contemporânea\, simplificando procedimentos e aumentando a segurança jurídica\, em busca de um melhor ambiente de negócios.\nOs juristas encarregados dos comentários (registradores\, tabeliães\, advogados especializados\, professores e magistrados) analisam os pressupostos\, a estrutura e a finalidade de cada uma das novas disposições legais\, conduzindo o leitor ao novo ambiente dos atos e negócios jurídicos relacionados ao sistema registral. Com eles\, formou-se um time estelar\, capaz de construir uma obra que já nasce com a autoridade e a qualidade necessárias para fornecer os elementos iniciais de estudo\, interpretação e aplicação da nova lei. \n
URL:https://blog.livrariadavila.com.br/event/risco-contratual-e-sistema-eletronico-de-registros-publicos-alexandre-junqueira-gomide-e-andre-abelha/
LOCATION:Av. Juscelino Kubitschek\, 2041 - Itaim Bibi\, São Paulo\, São Paulo\, 04543-011\, Brasil
GEO:-23.5914219;-46.6898224
X-APPLE-STRUCTURED-LOCATION;VALUE=URI;X-ADDRESS=Av. Juscelino Kubitschek 2041 - Itaim Bibi São Paulo São Paulo 04543-011 Brasil;X-APPLE-RADIUS=500;X-TITLE=Av. Juscelino Kubitschek\, 2041 - Itaim Bibi:geo:-46.6898224,-23.5914219
END:VEVENT
END:VCALENDAR