BEGIN:VCALENDAR
VERSION:2.0
PRODID:-//VILA - Blog - ECPv4.5.12.2//NONSGML v1.0//EN
CALSCALE:GREGORIAN
METHOD:PUBLISH
X-WR-CALNAME:VILA - Blog
X-ORIGINAL-URL:https://blog.livrariadavila.com.br
X-WR-CALDESC:Events for VILA - Blog
BEGIN:VEVENT
DTSTART;TZID=America/Sao_Paulo:20190414T160000
DTEND;TZID=America/Sao_Paulo:20190414T170000
DTSTAMP:20260420T135241
CREATED:20190402T141602Z
LAST-MODIFIED:20190402T141602Z
UID:95976-1555257600-1555261200@blog.livrariadavila.com.br
SUMMARY:Roda de leitura - Austrinho e a economia"
DESCRIPTION:As historias em quadrinhos do personagem “Austrinho” tem o objetivo de difundir os pensamentos do liberalismo econômico para jovens. A série Austrinho é uma forma dinâmica e divertida de disseminar os conceitos da Escola Austríaca de Economia e garantir uma formação inteligente e concreta para as gerações mais novas. Com um visual atrativo e linguagem simples\, Austrinho usa exemplos do cotidiano para ensinar como o Estado pode ser o fator de declínio se\, através de políticas erradas\, cerceiem a liberdade individual que cada um deve ter para empreender e prosperar. \nCom Mariana Peringer \nApoio IFL-SP (Instituto de Formadores de Líderes de São Paulo) \nEvento gratuito \n
URL:https://blog.livrariadavila.com.br/event/roda-de-leitura-austrinho-e-a-economia/
LOCATION:Rua Fradique Coutinho\, 915 - Pinheiros\, São Paulo\, São Paulo\, 05416-011\, Brasil
GEO:-23.5592934;-46.6892019
X-APPLE-STRUCTURED-LOCATION;VALUE=URI;X-ADDRESS=Rua Fradique Coutinho 915 - Pinheiros São Paulo São Paulo 05416-011 Brasil;X-APPLE-RADIUS=500;X-TITLE=Rua Fradique Coutinho\, 915 - Pinheiros:geo:-46.6892019,-23.5592934
CATEGORIES:ATIVIDADES INFANTIS,CLUBES DE LEITURA
END:VEVENT
END:VCALENDAR