BEGIN:VCALENDAR
VERSION:2.0
PRODID:-//VILA - Blog - ECPv4.5.12.2//NONSGML v1.0//EN
CALSCALE:GREGORIAN
METHOD:PUBLISH
X-WR-CALNAME:VILA - Blog
X-ORIGINAL-URL:https://blog.livrariadavila.com.br
X-WR-CALDESC:Events for VILA - Blog
BEGIN:VEVENT
DTSTART;TZID=America/Sao_Paulo:20181123T183000
DTEND;TZID=America/Sao_Paulo:20181123T213000
DTSTAMP:20260423T225549
CREATED:20181113T165944Z
LAST-MODIFIED:20181113T171056Z
UID:23475-1542997800-1543008600@blog.livrariadavila.com.br
SUMMARY:ROSA DA LIBERDADE: A história de Rosa Miyake e do programa de TV Imagens do Japão
DESCRIPTION:  \n \nDe Ricardo Taira \nEditora Contexto \n  \nRosa Miyake é a cantora nipo-brasileira de maior sucesso do país. Filha de imigrantes\, veio do interior paulista para brilhar em rede nacional. Depois\, ultrapassou as fronteiras do Brasil e chegou a ter êxito do outro lado do mundo\, na terra de seus ancestrais.Este livro biográfico narra a incrível odisseia vivida por Rosa\, mostrando como a garota tímida se transformou no símbolo da comunidade japonesa. Seu programa\, Imagens do Japão\, era assistido por todos e motivo de assunto para todos. Narrativa emocionante\, página notável do entretenimento e tema até hoje pouco explorado da história da imigração no Brasil. \n
URL:https://blog.livrariadavila.com.br/event/rosa-da-liberdade-a-historia-de-rosa-miyake-e-do-programa-de-tv-imagens-do-japao/
LOCATION:Rua Fradique Coutinho\, 915 - Pinheiros\, São Paulo\, São Paulo\, 05416-011\, Brasil
GEO:-23.5592934;-46.6892019
X-APPLE-STRUCTURED-LOCATION;VALUE=URI;X-ADDRESS=Rua Fradique Coutinho 915 - Pinheiros São Paulo São Paulo 05416-011 Brasil;X-APPLE-RADIUS=500;X-TITLE=Rua Fradique Coutinho\, 915 - Pinheiros:geo:-46.6892019,-23.5592934
CATEGORIES:LANÇAMENTOS,SESSÕES DE AUTÓGRAFOS
END:VEVENT
END:VCALENDAR