BEGIN:VCALENDAR
VERSION:2.0
PRODID:-//VILA - Blog - ECPv4.5.12.2//NONSGML v1.0//EN
CALSCALE:GREGORIAN
METHOD:PUBLISH
X-WR-CALNAME:VILA - Blog
X-ORIGINAL-URL:https://blog.livrariadavila.com.br
X-WR-CALDESC:Events for VILA - Blog
BEGIN:VEVENT
DTSTART;TZID=America/Sao_Paulo:20221127T150000
DTEND;TZID=America/Sao_Paulo:20221127T180000
DTSTAMP:20260423T123653
CREATED:20221027T213950Z
LAST-MODIFIED:20221027T213950Z
UID:115837-1669561200-1669572000@blog.livrariadavila.com.br
SUMMARY:RUMORES DA CIDADE - LUCAS ROCHA - ED. GLOBO ALT
DESCRIPTION: \n  \nAos dezessete anos\, André\, morador da pequena e religiosa cidade de Lima Reis\, sabe que não pode se assumir gay a menos que queira comprometer a reeleição do pai à prefeitura. Porém\, uma questão familiar faz com que tio Eduardo\, que o garoto nunca conheceu\, volte à cidade. Logo fica claro que: a) o tio é cem por cento gay; e b) ele sobreviveu àquela cidade. \nMunido de uma nova perspectiva\, André percebe que não é provável que ele seja o único gay de Lima Reis. Além disso\, o garoto acaba encontrando diversos indícios de que seu pai possa estar envolvido em casos de corrupção. Entre manter as aparências e fazer o que é certo\, André não terá como fugir de algumas escolhas e precisará enfrentar todos os rumores da cidade para seguir o caminho que acredita. \n
URL:https://blog.livrariadavila.com.br/event/rumores-da-cidade-lucas-rocha-ed-globo-alt/
LOCATION:Rua Fradique Coutinho\, 915 - Pinheiros\, São Paulo\, São Paulo\, 05416-011\, Brasil
GEO:-23.5592934;-46.6892019
X-APPLE-STRUCTURED-LOCATION;VALUE=URI;X-ADDRESS=Rua Fradique Coutinho 915 - Pinheiros São Paulo São Paulo 05416-011 Brasil;X-APPLE-RADIUS=500;X-TITLE=Rua Fradique Coutinho\, 915 - Pinheiros:geo:-46.6892019,-23.5592934
END:VEVENT
END:VCALENDAR