BEGIN:VCALENDAR
VERSION:2.0
PRODID:-//VILA - Blog - ECPv4.5.12.2//NONSGML v1.0//EN
CALSCALE:GREGORIAN
METHOD:PUBLISH
X-WR-CALNAME:VILA - Blog
X-ORIGINAL-URL:https://blog.livrariadavila.com.br
X-WR-CALDESC:Events for VILA - Blog
BEGIN:VEVENT
DTSTART;TZID=America/Sao_Paulo:20190424T183000
DTEND;TZID=America/Sao_Paulo:20190424T213000
DTSTAMP:20260422T055508
CREATED:20190327T163424Z
LAST-MODIFIED:20190327T163424Z
UID:95833-1556130600-1556141400@blog.livrariadavila.com.br
SUMMARY:Ruptura no modelo tradicional nas empresas - 10 grandes especialistas ajudam a desvendar as mudanças que estão impactando sua organização
DESCRIPTION: “O mundo passa por uma transformação econômica e social muito grande\, e o Brasil não ficará fora disso. É cada vez mais necessário abordar elementos tradicionais da gestão das empresas\, tais como o planejamento estratégico\, a busca pela excelência operacional através de metodologias como Lean Six Sigma\, sob a luz de novas tecnologias como blockchain\, criptomoedas\, inteligência artificial\, entre outras. É isso que este livro traz para você leitor\, além\nda discussão extremamente pertinente nos dias de hoje sobre compliance. À medida que as empresas crescem e se expandem\, seguir normas e diretrizes e definir formas de condutas esperadas é vital.”\nMauricio Ruiz\, CEO Intel \nDe Clovis Bergamo Filho (Organizador) \nEd. Brasport \n
URL:https://blog.livrariadavila.com.br/event/ruptura-no-modelo-tradicional-nas-empresas-10-grandes-especialistas-ajudam-a-desvendar-as-mudancas-que-estao-impactando-sua-organizacao/
LOCATION:Av. Juscelino Kubitschek\, 2041 - Itaim Bibi\, São Paulo\, São Paulo\, 04543-011\, Brasil
GEO:-23.5914219;-46.6898224
X-APPLE-STRUCTURED-LOCATION;VALUE=URI;X-ADDRESS=Av. Juscelino Kubitschek 2041 - Itaim Bibi São Paulo São Paulo 04543-011 Brasil;X-APPLE-RADIUS=500;X-TITLE=Av. Juscelino Kubitschek\, 2041 - Itaim Bibi:geo:-46.6898224,-23.5914219
CATEGORIES:LANÇAMENTOS,SESSÕES DE AUTÓGRAFOS
END:VEVENT
END:VCALENDAR