BEGIN:VCALENDAR
VERSION:2.0
PRODID:-//VILA - Blog - ECPv4.5.12.2//NONSGML v1.0//EN
CALSCALE:GREGORIAN
METHOD:PUBLISH
X-WR-CALNAME:VILA - Blog
X-ORIGINAL-URL:https://blog.livrariadavila.com.br
X-WR-CALDESC:Events for VILA - Blog
BEGIN:VEVENT
DTSTART;TZID=America/Sao_Paulo:20260508T180000
DTEND;TZID=America/Sao_Paulo:20260508T210000
DTSTAMP:20260425T152513
CREATED:20260424T213203Z
LAST-MODIFIED:20260424T213203Z
UID:133602-1778263200-1778274000@blog.livrariadavila.com.br
SUMMARY:SAÍDA DE MESTRE - CRISTIANE KAPAZ FITTIPALDI - ED. INDEPENDENTE
DESCRIPTION: \nSaída de Mestre de Cristiane Kapaz Fittipaldi.  A autora apresenta uma narrativa autobiográfica. Ela transforma a dor da perda em uma travessia pessoal e transformadora.  A partir da partida súbita de sua mãe\, em plena pandemia\, a autora conduz o leitor por memórias\, silêncios\, rituais e descobertas sobre o luto\, o amor e a reconstrução de si. \n
URL:https://blog.livrariadavila.com.br/event/saida-de-mestre-cristiane-kapaz-fittipaldi-ed-independente/
LOCATION:Alameda Lorena\, 1501\, São Paulo\, São Paulo\, 01424-005\, Brasil
CATEGORIES:LANÇAMENTOS,SESSÕES DE AUTÓGRAFOS
END:VEVENT
END:VCALENDAR