BEGIN:VCALENDAR
VERSION:2.0
PRODID:-//VILA - Blog - ECPv4.5.12.2//NONSGML v1.0//EN
CALSCALE:GREGORIAN
METHOD:PUBLISH
X-WR-CALNAME:VILA - Blog
X-ORIGINAL-URL:https://blog.livrariadavila.com.br
X-WR-CALDESC:Events for VILA - Blog
BEGIN:VEVENT
DTSTART;TZID=America/Sao_Paulo:20230926T180000
DTEND;TZID=America/Sao_Paulo:20230926T200000
DTSTAMP:20260420T044810
CREATED:20230918T201515Z
LAST-MODIFIED:20230918T201616Z
UID:119461-1695751200-1695758400@blog.livrariadavila.com.br
SUMMARY:SEGREDOS DA INTERNET QUE CRIANÇAS E ADOLESCENTES AINDA NÃO SABEM - KELLI ANGELINI – ED. INVERSO
DESCRIPTION: \n  \nCrianças e adolescentes são usuários da internet. É o que afirma a pesquisa TIC kids online Brasil ao apontar que 93% da população de 9 a 17 anos usa a\ninternet no Brasil\, o que equivale a 24\,3 milhões de conectados. Essa grande participação criou muitas oportunidades\, mas também situações de riscos e\nperigos online. \n  \nAcontece que\, frequentemente\, nos deparamos nos noticiários com situações em que jovens\, além de vítimas de criminosos na internet\, praticam infrações online\, causando uma série de consequências até então desconhecidas por eles. \nPor meio de linguagem simples (sem “juridiquês”) e com mais de 40 histórias reais de casos advindos de bons e maus exemplos\, esta obra traz uma forma lúdica de instruir e informar crianças e adolescentes sobre boas práticas online\, destacando os direitos e deveres dos jovens previstos na legislação brasileira. \n  \nTer este conhecimento não só os empodera naquilo que a legislação lhes oferece\, mas também os torna conscientes do dever que têm na sociedade (real ou digital). \n
URL:https://blog.livrariadavila.com.br/event/segredos-da-internet-que-criancas-e-adolescentes-ainda-nao-sabem-kelli-angelini-ed-inverso/
LOCATION:Av. Rebouças\, 3970 Piso 1 - Pinheiros\, São Paulo\, São Paulo\, 05402-600
END:VEVENT
END:VCALENDAR