BEGIN:VCALENDAR
VERSION:2.0
PRODID:-//VILA - Blog - ECPv4.5.12.2//NONSGML v1.0//EN
CALSCALE:GREGORIAN
METHOD:PUBLISH
X-WR-CALNAME:VILA - Blog
X-ORIGINAL-URL:https://blog.livrariadavila.com.br
X-WR-CALDESC:Events for VILA - Blog
BEGIN:VEVENT
DTSTART;TZID=America/Sao_Paulo:20250212T193000
DTEND;TZID=America/Sao_Paulo:20250212T213000
DTSTAMP:20260420T101733
CREATED:20250210T213810Z
LAST-MODIFIED:20250210T213810Z
UID:126086-1739388600-1739395800@blog.livrariadavila.com.br
SUMMARY:SEVANDIJA - CRISTIANO PAVINI - ED. TERRA DA GENTE
DESCRIPTION: \nEste livro-reportagem narra a eletrizante história da Sevandija\, uma das maiores operações de combate à corrupção municipal do país. De autoria do premiado jornalista Cristiano Pavini e publicado pela editora Terra da Gente (Grupo EP)\, a obra revela os bastidores do desmantelamento de organizações criminosas que atuavam em conluio com agentes políticos do alto escalão de Ribeirão Preto (SP). A narrativa é guiada por exaustiva investigação\, análise de milhares de documentos e depoimentos. \n
URL:https://blog.livrariadavila.com.br/event/sevandija-cristiano-pavini-ed-terra-da-gente/
LOCATION:Av.Luiz Eduardo de Toledo Prado\, 900\, Ribeirão Preto\, São Paulo\, 14027-250\, Brasil
CATEGORIES:SESSÕES DE AUTÓGRAFOS
END:VEVENT
END:VCALENDAR