BEGIN:VCALENDAR
VERSION:2.0
PRODID:-//VILA - Blog - ECPv4.5.12.2//NONSGML v1.0//EN
CALSCALE:GREGORIAN
METHOD:PUBLISH
X-WR-CALNAME:VILA - Blog
X-ORIGINAL-URL:https://blog.livrariadavila.com.br
X-WR-CALDESC:Events for VILA - Blog
BEGIN:VEVENT
DTSTART;TZID=America/Sao_Paulo:20190308T183000
DTEND;TZID=America/Sao_Paulo:20190308T213000
DTSTAMP:20260420T083544
CREATED:20190221T200244Z
LAST-MODIFIED:20190221T200244Z
UID:93525-1552069800-1552080600@blog.livrariadavila.com.br
SUMMARY:Sexualidade e Câncer de Mama
DESCRIPTION: Este livro expõe todos os aspectos da saúde sexual diante do câncer de mama com uma finalidade ilustre: a recuperação da sexualidade e da feminilidade das mulheres com câncer de mama. O diagnóstico de câncer de mama e seu tratamento repercutem de maneira implacável não somente na saúde física\, mas no psicológico e emocional das mulheres e suas parcerias de vida. Entretanto\, há uma questão de extrema importância que é pouco abordada nas publicações sobre o tema e nos serviços de saúde: a sexualidade no câncer de mama. Muitas mulheres acometidas por câncer de mama desenvolvem disfunções sexuais durante e após o tratamento da doença\, o que prejudica sobremaneira a qualidade de vida das pacientes. A percepção da autoimagem corporal e a alteração da sensibilidade local após o tratamento\, que podem levar à menopausa precocemente\, são os promotores das disfunções sexuais. Esta obra traz informações sobre os fatores de risco na gênese do câncer de mama\, sobre a sexualidade normal e disfunções sexuais geradas ou exacerbadas pelo câncer\, e como as mulheres\, sejam jovens ou idosas\, e suas parcerias\, podem restabelecer\nsua qualidade de vida global e sexual. Também aborda peculiaridades\nrelativas ao câncer de mama no homem. \nDe Marcos Desidério Ricci e Aline Ambrósio \nEd. Manole \n
URL:https://blog.livrariadavila.com.br/event/sexualidade-e-cancer-de-mama/
LOCATION:Av. Juscelino Kubitschek\, 2041 - Itaim Bibi\, São Paulo\, São Paulo\, 04543-011\, Brasil
GEO:-23.5914219;-46.6898224
X-APPLE-STRUCTURED-LOCATION;VALUE=URI;X-ADDRESS=Av. Juscelino Kubitschek 2041 - Itaim Bibi São Paulo São Paulo 04543-011 Brasil;X-APPLE-RADIUS=500;X-TITLE=Av. Juscelino Kubitschek\, 2041 - Itaim Bibi:geo:-46.6898224,-23.5914219
CATEGORIES:LANÇAMENTOS,SESSÕES DE AUTÓGRAFOS
END:VEVENT
END:VCALENDAR