BEGIN:VCALENDAR
VERSION:2.0
PRODID:-//VILA - Blog - ECPv4.5.12.2//NONSGML v1.0//EN
CALSCALE:GREGORIAN
METHOD:PUBLISH
X-WR-CALNAME:VILA - Blog
X-ORIGINAL-URL:https://blog.livrariadavila.com.br
X-WR-CALDESC:Events for VILA - Blog
BEGIN:VEVENT
DTSTART;TZID=America/Sao_Paulo:20200111T150000
DTEND;TZID=America/Sao_Paulo:20200111T170000
DTSTAMP:20260423T195039
CREATED:20191226T172101Z
LAST-MODIFIED:20191226T172101Z
UID:112284-1578754800-1578762000@blog.livrariadavila.com.br
SUMMARY:Show de mágica\, ilusionismo e humor
DESCRIPTION:Com Prof. Doug style \nPingu’s English Paraíso \n
URL:https://blog.livrariadavila.com.br/event/show-de-magica-ilusionismo-e-humor/
LOCATION:Rua Pamplona\, 1704\, São Paulo\, São Paulo\, 01405-000\, Brasil
GEO:-23.5702482;-46.6612794
X-APPLE-STRUCTURED-LOCATION;VALUE=URI;X-ADDRESS=Rua Pamplona 1704 São Paulo São Paulo 01405-000 Brasil;X-APPLE-RADIUS=500;X-TITLE=Rua Pamplona\, 1704:geo:-46.6612794,-23.5702482
CATEGORIES:FÉRIAS NA VILA
END:VEVENT
END:VCALENDAR