BEGIN:VCALENDAR
VERSION:2.0
PRODID:-//VILA - Blog - ECPv4.5.12.2//NONSGML v1.0//EN
CALSCALE:GREGORIAN
METHOD:PUBLISH
X-WR-CALNAME:VILA - Blog
X-ORIGINAL-URL:https://blog.livrariadavila.com.br
X-WR-CALDESC:Events for VILA - Blog
BEGIN:VEVENT
DTSTART;TZID=America/Sao_Paulo:20181114T183000
DTEND;TZID=America/Sao_Paulo:20181114T213000
DTSTAMP:20260420T213105
CREATED:20181023T135941Z
LAST-MODIFIED:20181023T135941Z
UID:23193-1542220200-1542231000@blog.livrariadavila.com.br
SUMMARY:Sistema financeiro e desenvolvimento sustentável
DESCRIPTION: A obra em questão resulta de uma ampla pesquisa desenvolvida pela autora durante seu Pós-Doutorado na USP (com período como Pesquisadora Visitante na Università Luigi Bocconi\, de Milão)\, abrangendo: 1) um levantamento das normas regulatórias e autorregulatórias envolvendo questões socioambientais no âmbito do Sistema Financeiro\, no Brasil e no mundo; 2) pesquisa empírica e bibliográfica sobre as melhores práticas e o estágio atual dos mercados bancário e de investimentos no que toca à consideração de fatores socioambientais\, no Brasil e na Europa Ocidental; 3) propostas para aprimoramento na regulação financeira visando maior alinhamento às necessidades do Desenvolvimento Sustentável); 4) propostas de parâmetros para responsabilização de instituições financeiras por danos socioambientais causados por atividades financiadas. \nDe Luciane Moessa de Souza \nEd. Lumen Juris \n
URL:https://blog.livrariadavila.com.br/event/sistema-financeiro-e-desenvolvimento-sustentavel-2/
LOCATION:Avenida do Batel\, nº 1868 – Loja 314 piso L3\, Curitiba\, Paraná\, 80420-090\, Brasil
GEO:-25.443012;-49.2899507
X-APPLE-STRUCTURED-LOCATION;VALUE=URI;X-ADDRESS=Avenida do Batel nº 1868 – Loja 314 piso L3 Curitiba Paraná 80420-090 Brasil;X-APPLE-RADIUS=500;X-TITLE=Avenida do Batel\, nº 1868 – Loja 314 piso L3:geo:-49.2899507,-25.443012
CATEGORIES:LANÇAMENTOS,SESSÕES DE AUTÓGRAFOS
END:VEVENT
END:VCALENDAR