BEGIN:VCALENDAR
VERSION:2.0
PRODID:-//VILA - Blog - ECPv4.5.12.2//NONSGML v1.0//EN
CALSCALE:GREGORIAN
METHOD:PUBLISH
X-WR-CALNAME:VILA - Blog
X-ORIGINAL-URL:https://blog.livrariadavila.com.br
X-WR-CALDESC:Events for VILA - Blog
BEGIN:VEVENT
DTSTART;TZID=America/Sao_Paulo:20181023T183000
DTEND;TZID=America/Sao_Paulo:20181023T213000
DTSTAMP:20260422T105930
CREATED:20181001T182525Z
LAST-MODIFIED:20181001T182525Z
UID:22682-1540319400-1540330200@blog.livrariadavila.com.br
SUMMARY:Sistema financeiro e desenvolvimento sustentável
DESCRIPTION:A obra em questão resulta de uma ampla pesquisa desenvolvida pela autora durante seu Pós-Doutorado na USP (com período como Pesquisadora Visitante na Università Luigi Bocconi\, de Milão)\, abrangendo: 1) um levantamento das normas regulatórias e autorregulatórias envolvendo questões socioambientais no âmbito do Sistema Financeiro\, no Brasil e no mundo; 2) pesquisa empírica e bibliográfica sobre as melhores práticas e o estágio atual dos mercados bancário e de investimentos no que toca à consideração de fatores socioambientais\, no Brasil e na Europa Ocidental; 3) propostas para aprimoramento na regulação financeira visando maior alinhamento às necessidades do Desenvolvimento Sustentável); 4) propostas de parâmetros para responsabilização de instituições financeiras por danos socioambientais causados por atividades financiadas. \nDe Luciane Moessa de Souza  \nEd. Lumen Juris \n
URL:https://blog.livrariadavila.com.br/event/sistema-financeiro-e-desenvolvimento-sustentavel/
LOCATION:Rua Fradique Coutinho\, 915 - Pinheiros\, São Paulo\, São Paulo\, 05416-011\, Brasil
GEO:-23.5592934;-46.6892019
X-APPLE-STRUCTURED-LOCATION;VALUE=URI;X-ADDRESS=Rua Fradique Coutinho 915 - Pinheiros São Paulo São Paulo 05416-011 Brasil;X-APPLE-RADIUS=500;X-TITLE=Rua Fradique Coutinho\, 915 - Pinheiros:geo:-46.6892019,-23.5592934
CATEGORIES:LANÇAMENTOS,SESSÕES DE AUTÓGRAFOS
END:VEVENT
END:VCALENDAR