BEGIN:VCALENDAR
VERSION:2.0
PRODID:-//VILA - Blog - ECPv4.5.12.2//NONSGML v1.0//EN
CALSCALE:GREGORIAN
METHOD:PUBLISH
X-WR-CALNAME:VILA - Blog
X-ORIGINAL-URL:https://blog.livrariadavila.com.br
X-WR-CALDESC:Events for VILA - Blog
BEGIN:VEVENT
DTSTART;TZID=America/Sao_Paulo:20181108T183000
DTEND;TZID=America/Sao_Paulo:20181108T213000
DTSTAMP:20260420T033805
CREATED:20181023T130451Z
LAST-MODIFIED:20181023T130451Z
UID:23160-1541701800-1541712600@blog.livrariadavila.com.br
SUMMARY:Sob o som da Aldrava
DESCRIPTION:Sob o som da aldrava é um romance ficcional\, amparado em fatos reais. Transita no tempo de uma mulher que como milhões alicerçam a história da humanidade.\nO abandono no início de vida não foi óbice para que Luiza Maria atravessasse o mundo\, assoprando seu tempo para abri-lo em um jardim em flores.\nO amor\, a guerra e a vida em si mesma lapidaram essa mulher até atingir a ímpar missão de moderadora do mundo. \nDe Mario Antonio Silveira \nEd. Letras do Pensamento \n
URL:https://blog.livrariadavila.com.br/event/sob-o-som-da-aldrava/
LOCATION:Av. Higienópolis\, 618 – Higienópolis\, São Paulo\, SP\, 01238-000\, Brasil
GEO:-23.542049;-46.6577148
X-APPLE-STRUCTURED-LOCATION;VALUE=URI;X-ADDRESS=Av. Higienópolis 618 – Higienópolis São Paulo SP 01238-000 Brasil;X-APPLE-RADIUS=500;X-TITLE=Av. Higienópolis\, 618 – Higienópolis:geo:-46.6577148,-23.542049
CATEGORIES:LANÇAMENTOS,SESSÕES DE AUTÓGRAFOS
END:VEVENT
END:VCALENDAR