BEGIN:VCALENDAR
VERSION:2.0
PRODID:-//VILA - Blog - ECPv4.5.12.2//NONSGML v1.0//EN
CALSCALE:GREGORIAN
METHOD:PUBLISH
X-WR-CALNAME:VILA - Blog
X-ORIGINAL-URL:https://blog.livrariadavila.com.br
X-WR-CALDESC:Events for VILA - Blog
BEGIN:VEVENT
DTSTART;TZID=America/Sao_Paulo:20260512T190000
DTEND;TZID=America/Sao_Paulo:20260512T210000
DTSTAMP:20260423T190302
CREATED:20260423T141159Z
LAST-MODIFIED:20260423T182207Z
UID:133560-1778612400-1778619600@blog.livrariadavila.com.br
SUMMARY:SOLO - PAULA MACEDO WEISS - ED. CONTRACORRENTE
DESCRIPTION: \n\n\n\n\nA EDITORA CONTRACORRENTE tem o prazer de anunciar “Solo”\, de Paula Macedo Weiss. O livro conta a saga familiar de Hannah e atravessa três gerações. O romance acompanha a trajetória de uma filha de imigrantes alemães no Brasil\, marcada pelos ecos da Segunda Guerra\, pela culpa histórica transplantada aos trópicos e pelas fraturas do deslocamento cultural. A obra revisita as diferentes fases da vida de Hannah — sua infância\, juventude e entrada na idade adulta no Brasil e na Alemanha\, acompanhando seu desenvolvimento pessoal e experiências. Hannah enfrenta solidão\, depressão e amadurecimento\, além das dificuldades de integração\, de não se sentir pertencente apesar da dupla cidadania\, de vivenciar xenofobia e misoginia. Neste contexto\, a maternidade surge como experiência solitária\, fruto da estrutura patriarcal vigente; uma tarefa individual que torna as mulheres invisíveis na sociedade. A luta de Hannah para encontrar sua identidade\, ser reconhecida\, ter uma voz ativa na construção do bem comum. É um apelo pelo direito de se sentir representado no coletivo\, sem perder sua singularidade. Um romance sobre memória\, migração e amadurecimento\, que pensa a vida como solo\, dueto e dança coletiva.\n\n\n\n\n
URL:https://blog.livrariadavila.com.br/event/solo-paula-macedo-weiss-ed-contracorrente/
LOCATION:Avenida do Batel\, nº 1868 – Loja 314 piso L3\, Curitiba\, Paraná\, 80420-090\, Brasil
GEO:-25.443012;-49.2899507
X-APPLE-STRUCTURED-LOCATION;VALUE=URI;X-ADDRESS=Avenida do Batel nº 1868 – Loja 314 piso L3 Curitiba Paraná 80420-090 Brasil;X-APPLE-RADIUS=500;X-TITLE=Avenida do Batel\, nº 1868 – Loja 314 piso L3:geo:-49.2899507,-25.443012
CATEGORIES:LANÇAMENTOS,SESSÕES DE AUTÓGRAFOS
END:VEVENT
END:VCALENDAR