BEGIN:VCALENDAR
VERSION:2.0
PRODID:-//VILA - Blog - ECPv4.5.12.2//NONSGML v1.0//EN
CALSCALE:GREGORIAN
METHOD:PUBLISH
X-WR-CALNAME:VILA - Blog
X-ORIGINAL-URL:https://blog.livrariadavila.com.br
X-WR-CALDESC:Events for VILA - Blog
BEGIN:VEVENT
DTSTART;TZID=America/Sao_Paulo:20181113T183000
DTEND;TZID=America/Sao_Paulo:20181113T213000
DTSTAMP:20260420T101642
CREATED:20181023T133205Z
LAST-MODIFIED:20181023T133205Z
UID:23173-1542133800-1542144600@blog.livrariadavila.com.br
SUMMARY:Sou péssimo em português
DESCRIPTION:Imagine-se fazendo uma prova e tendo de escolher a opção certa: a longo prazo ou em longo prazo? Assistir o ou assistir ao? Bastante ou bastantes? Ficou em dúvida? Então este livro é para você. Em Sou péssimo em português\, a professora Cíntia Chagas usa histórias divertidas de sua própria vida para ensinar regras da língua portuguesa. São contos e microcontos com lições de gramática misturadas a relacionamentos\, a viagens e a recordações\, ensinadas de um jeito que você nunca vai esquecer. \nDe Cíntia Chagas \nEd. Harper Collins \n
URL:https://blog.livrariadavila.com.br/event/sou-pessimo-em-portugues/
CATEGORIES:LANÇAMENTOS,SESSÕES DE AUTÓGRAFOS
END:VEVENT
END:VCALENDAR