BEGIN:VCALENDAR
VERSION:2.0
PRODID:-//VILA - Blog - ECPv4.5.12.2//NONSGML v1.0//EN
CALSCALE:GREGORIAN
METHOD:PUBLISH
X-WR-CALNAME:VILA - Blog
X-ORIGINAL-URL:https://blog.livrariadavila.com.br
X-WR-CALDESC:Events for VILA - Blog
BEGIN:VEVENT
DTSTART;TZID=America/Sao_Paulo:20260422T180000
DTEND;TZID=America/Sao_Paulo:20260422T210000
DTSTAMP:20260421T012224
CREATED:20260420T142538Z
LAST-MODIFIED:20260420T142538Z
UID:133528-1776880800-1776891600@blog.livrariadavila.com.br
SUMMARY:SPOT: O PALCO DA MINHA VIDA - AFONSO BRAGA NETO - ED. INDEPENDENTE
DESCRIPTION: \nAfonso Braga Neto é um homem sensível\, intenso e profundamente criativo\, que encontrou na arte\, na gastronomia e nos eventos o caminho para transformar sua história em propósito. Em Spot\, Palco da Minha Vida\, ele revisita sua trajetória para revelar como momentos de delicadeza\, conflitos internos e descobertas emocionais moldaram o que hoje se tornou um dos projetos mais ousados de sua vida: a Spot 105. Da infância entre Brasil e Uruguai às memórias afetivas que o formaram\, a casa dos avós\, as tardes no ateliê\, a presença marcante de sua mãe e de seu pai\, e o vínculo profundo com suas irmãs e primas\, cada capítulo mostra como sua sensibilidade se transformou em visão. Afonso também compartilha\, com honestidade e maturidade\, como lida com sua bipolaridade e superdotação\, uma verdadeira montanha-russa emocional que tanto desafia quanto impulsiona sua criatividade. Entre altos e baixos\, ele revela como aprendeu a transformar intensidade em potência e vulnerabilidade em coragem. Ao lado de Isabela\, sua parceria de vida\, amor e criação\, Afonso aprofunda reflexões sobre família\, saúde emocional\, legado e pertencimento\, revelando que o palco da vida ganha sentido quando é compartilhado. Spot\, Palco da Minha Vida não é apenas uma autobiografia. É um manifesto. Um convite para ressignificar a própria história\, abraçar vulnerabilidades e transformar sensibilidade em força criativa. Um livro que inspira futuras gerações a encontrarem seu próprio palco\, e a viverem\, com coragem\, o espetáculo da vida. \n
URL:https://blog.livrariadavila.com.br/event/spot-o-palco-da-minha-vida-afonso-braga-neto-ed-independente/
LOCATION:Avenida do Batel\, nº 1868 – Loja 314 piso L3\, Curitiba\, Paraná\, 80420-090\, Brasil
GEO:-25.443012;-49.2899507
X-APPLE-STRUCTURED-LOCATION;VALUE=URI;X-ADDRESS=Avenida do Batel nº 1868 – Loja 314 piso L3 Curitiba Paraná 80420-090 Brasil;X-APPLE-RADIUS=500;X-TITLE=Avenida do Batel\, nº 1868 – Loja 314 piso L3:geo:-49.2899507,-25.443012
CATEGORIES:LANÇAMENTOS,SESSÕES DE AUTÓGRAFOS
END:VEVENT
END:VCALENDAR