BEGIN:VCALENDAR
VERSION:2.0
PRODID:-//VILA - Blog - ECPv4.5.12.2//NONSGML v1.0//EN
CALSCALE:GREGORIAN
METHOD:PUBLISH
X-WR-CALNAME:VILA - Blog
X-ORIGINAL-URL:https://blog.livrariadavila.com.br
X-WR-CALDESC:Events for VILA - Blog
BEGIN:VEVENT
DTSTART;TZID=America/Sao_Paulo:20181123T183000
DTEND;TZID=America/Sao_Paulo:20181123T213000
DTSTAMP:20260420T101614
CREATED:20181106T175327Z
LAST-MODIFIED:20181106T175327Z
UID:23381-1542997800-1543008600@blog.livrariadavila.com.br
SUMMARY:Sustentabilidade Global e Realidade Brasileira
DESCRIPTION:Sustentabilidade Global e Realidade Brasileira tem como objetivo a análise teórica e política dos problemas do meio ambiente\, no âmbito brasileiro e internacional. O livro tem como marco fundamental a publicação da Encíclica Laudato Si’\, em que o papa Francisco assumiu um importante posicionamento no campo das relações internacionais\, ao propor e defender uma nova forma de condução das questões relativas à sustentabilidade planetária e ao desenvolvimento da humanidade\, a um só tempo resgatando categorias afastadas dos debates acerca da ordem internacional e conferindo à Igreja Católica um novo e benéfico protagonismo na lida com as negociações ambientais internacionais. \nDe Regina Maria A. Fonseca Gadelha e Joaquim Carlos Racy \nEd. Appris \n
URL:https://blog.livrariadavila.com.br/event/sustentabilidade-global-e-realidade-brasileira/
CATEGORIES:LANÇAMENTOS,SESSÕES DE AUTÓGRAFOS
END:VEVENT
END:VCALENDAR