BEGIN:VCALENDAR
VERSION:2.0
PRODID:-//VILA - Blog - ECPv4.5.12.2//NONSGML v1.0//EN
CALSCALE:GREGORIAN
METHOD:PUBLISH
X-WR-CALNAME:VILA - Blog
X-ORIGINAL-URL:https://blog.livrariadavila.com.br
X-WR-CALDESC:Events for VILA - Blog
BEGIN:VEVENT
DTSTART;TZID=America/Sao_Paulo:20181001T190000
DTEND;TZID=America/Sao_Paulo:20181001T200000
DTSTAMP:20260423T205529
CREATED:20180917T145200Z
LAST-MODIFIED:20180917T145200Z
UID:22439-1538420400-1538424000@blog.livrariadavila.com.br
SUMMARY:Tarrafa Literária - Mesa 01: Mar de histórias\, Portugal e Brasil
DESCRIPTION:Mesa 1 – Bate-Papo entre António Ladeira e Ana Margarida Carvalho sendo mediado por Bruno Assami. Falarão sobre seus trabalhos como escritores e das relações entre a literatura Brasileira e Portuguesa. \nEvento gratuito (auditório) \n
URL:https://blog.livrariadavila.com.br/event/tarrafa-literaria-mesa-01-mar-de-historias-portugal-e-brasil/
LOCATION:Rua Fradique Coutinho\, 915 - Pinheiros\, São Paulo\, São Paulo\, 05416-011\, Brasil
GEO:-23.5592934;-46.6892019
X-APPLE-STRUCTURED-LOCATION;VALUE=URI;X-ADDRESS=Rua Fradique Coutinho 915 - Pinheiros São Paulo São Paulo 05416-011 Brasil;X-APPLE-RADIUS=500;X-TITLE=Rua Fradique Coutinho\, 915 - Pinheiros:geo:-46.6892019,-23.5592934
CATEGORIES:BATE-PAPO,PALESTRAS
END:VEVENT
END:VCALENDAR