BEGIN:VCALENDAR
VERSION:2.0
PRODID:-//VILA - Blog - ECPv4.5.12.2//NONSGML v1.0//EN
CALSCALE:GREGORIAN
METHOD:PUBLISH
X-WR-CALNAME:VILA - Blog
X-ORIGINAL-URL:https://blog.livrariadavila.com.br
X-WR-CALDESC:Events for VILA - Blog
BEGIN:VEVENT
DTSTART;TZID=America/Sao_Paulo:20181201T160000
DTEND;TZID=America/Sao_Paulo:20181201T170000
DTSTAMP:20260420T201119
CREATED:20181128T145733Z
LAST-MODIFIED:20181128T145733Z
UID:23725-1543680000-1543683600@blog.livrariadavila.com.br
SUMMARY:Teatro infantil - As férias da palhaça Lili
DESCRIPTION:A Palhaça Lili entrou de férias e quer aproveitar cada minuto de diversão\, só que no celular. Sua mãe\, dona Lalá\, explica para ela que mesmo estando de férias ela precisa se comportar bem\, comer direitinho\, respeitar os mais velhos\, arrumar o seu quarto e aproveitar o tempo brincando. Embarque com a gente nesta divertida história que mostra a relação entre pais e filhos\, o respeito com o próximo e o impacto que o mundo digital tem na vida das crianças. \nLocal: Teatro Livraria da Vila da Lorena (São Paulo) \nValor: R$ 40 inteira | R$ 20 meia-entrada \n
URL:https://blog.livrariadavila.com.br/event/teatro-infantil-as-ferias-da-palhaca-lili-2/
CATEGORIES:TEATRO
END:VEVENT
END:VCALENDAR