BEGIN:VCALENDAR
VERSION:2.0
PRODID:-//VILA - Blog - ECPv4.5.12.2//NONSGML v1.0//EN
CALSCALE:GREGORIAN
METHOD:PUBLISH
X-WR-CALNAME:VILA - Blog
X-ORIGINAL-URL:https://blog.livrariadavila.com.br
X-WR-CALDESC:Events for VILA - Blog
BEGIN:VEVENT
DTSTART;TZID=America/Sao_Paulo:20181103T160000
DTEND;TZID=America/Sao_Paulo:20181103T170000
DTSTAMP:20260419T170219
CREATED:20181019T151742Z
LAST-MODIFIED:20181019T151742Z
UID:23117-1541260800-1541264400@blog.livrariadavila.com.br
SUMMARY:Teatro infantil - Auto de Natal
DESCRIPTION: \nEM BUSCA DA MAGIA DO NATAL! \nJá pensou se o Pinheirinho e a Estrela de Natal ganhassem vida e encontrassem com o famoso Duende\, ajudante do Papai Noel? \nNessa emocionante história os personagens refletem sobre o verdadeiro significado do Natal e vão em busca da magia Natalina\, com muitas aventuras e lindas canções tradicionais no decorrer da peça! \nLocal: Teatro Livraria da Vila do Pátio Batel (Curitiba) \nValor: R$ 40 inteira | R$ 20 meia-entrada \n
URL:https://blog.livrariadavila.com.br/event/teatro-infantil-auto-de-natal/2018-11-03/
LOCATION:Avenida do Batel\, nº 1868 – Loja 314 piso L3\, Curitiba\, Paraná\, 80420-090\, Brasil
GEO:-25.443012;-49.2899507
X-APPLE-STRUCTURED-LOCATION;VALUE=URI;X-ADDRESS=Avenida do Batel nº 1868 – Loja 314 piso L3 Curitiba Paraná 80420-090 Brasil;X-APPLE-RADIUS=500;X-TITLE=Avenida do Batel\, nº 1868 – Loja 314 piso L3:geo:-49.2899507,-25.443012
CATEGORIES:TEATRO
END:VEVENT
END:VCALENDAR