BEGIN:VCALENDAR
VERSION:2.0
PRODID:-//VILA - Blog - ECPv4.5.12.2//NONSGML v1.0//EN
CALSCALE:GREGORIAN
METHOD:PUBLISH
X-WR-CALNAME:VILA - Blog
X-ORIGINAL-URL:https://blog.livrariadavila.com.br
X-WR-CALDESC:Events for VILA - Blog
BEGIN:VEVENT
DTSTART;TZID=America/Sao_Paulo:20190119T160000
DTEND;TZID=America/Sao_Paulo:20190119T170000
DTSTAMP:20260420T120924
CREATED:20181218T162339Z
LAST-MODIFIED:20181218T164547Z
UID:53614-1547913600-1547917200@blog.livrariadavila.com.br
SUMMARY:Teatro infantil - Chapeuzinho Amarelo
DESCRIPTION: Linda história que conta sobre as aventuras de uma menina que tinha medo de tudo. Sabendo que havia um lobo no outro lado da montanha\, decide sair em busca de uma resposta para suas dúvidas e receios e também para satisfazer a sua curiosidade. A Chapeuzinho Amarelo então enfrenta o desconhecido e supera seus medos\, inseguranças e encontra a alegria de viver \nValor: R$ 40 inteira | R$ 20 meia-entrada \n
URL:https://blog.livrariadavila.com.br/event/teatro-infantil-chapeuzinho-amarelo/2019-01-19/
LOCATION:Avenida do Batel\, nº 1868 – Loja 314 piso L3\, Curitiba\, Paraná\, 80420-090\, Brasil
GEO:-25.443012;-49.2899507
X-APPLE-STRUCTURED-LOCATION;VALUE=URI;X-ADDRESS=Avenida do Batel nº 1868 – Loja 314 piso L3 Curitiba Paraná 80420-090 Brasil;X-APPLE-RADIUS=500;X-TITLE=Avenida do Batel\, nº 1868 – Loja 314 piso L3:geo:-49.2899507,-25.443012
CATEGORIES:TEATRO
END:VEVENT
END:VCALENDAR