BEGIN:VCALENDAR
VERSION:2.0
PRODID:-//VILA - Blog - ECPv4.5.12.2//NONSGML v1.0//EN
CALSCALE:GREGORIAN
METHOD:PUBLISH
X-WR-CALNAME:VILA - Blog
X-ORIGINAL-URL:https://blog.livrariadavila.com.br
X-WR-CALDESC:Events for VILA - Blog
BEGIN:VEVENT
DTSTART;TZID=America/Sao_Paulo:20181126T183000
DTEND;TZID=America/Sao_Paulo:20181126T213000
DTSTAMP:20260420T233732
CREATED:20181106T184430Z
LAST-MODIFIED:20181106T184430Z
UID:23412-1543257000-1543267800@blog.livrariadavila.com.br
SUMMARY:Técnica de julgamento do artigo 942 do CPC de 2015 - Cabimento\, Processamento e Questões Polêmicas da Ampliação do Quorúm em Busca de Maior Segurança Jurídica e Uniformidade das Decisões Judiciais
DESCRIPTION: O tema não poderia ser mais atual\, pois essa técnica\, embora guarde certa relação de correspondência com os extintos embargos infringentes\, previstos nos arts. 530 a 534 do Código de Processo Civil de 1973\, com eles não se confunde. A técnica da ampliação da colegialidade possui uma sistemática própria e consiste em uma inovação do direito processual civil brasileiro\, explorada com maestria pelo autor nesta obra. \nDe Luiz Henrique Sormani Barbugiani \nEd. Lumen Juris \n
URL:https://blog.livrariadavila.com.br/event/tecnica-de-julgamento-do-artigo-942-do-cpc-de-2015-cabimento-processamento-e-questoes-polemicas-da-ampliacao-do-quorum-em-busca-de-maior-seguranca-juridica-e-uniformidade-das-decisoes-judiciais/
LOCATION:Avenida do Batel\, nº 1868 – Loja 314 piso L3\, Curitiba\, Paraná\, 80420-090\, Brasil
GEO:-25.443012;-49.2899507
X-APPLE-STRUCTURED-LOCATION;VALUE=URI;X-ADDRESS=Avenida do Batel nº 1868 – Loja 314 piso L3 Curitiba Paraná 80420-090 Brasil;X-APPLE-RADIUS=500;X-TITLE=Avenida do Batel\, nº 1868 – Loja 314 piso L3:geo:-49.2899507,-25.443012
CATEGORIES:LANÇAMENTOS,SESSÕES DE AUTÓGRAFOS
END:VEVENT
END:VCALENDAR