BEGIN:VCALENDAR
VERSION:2.0
PRODID:-//VILA - Blog - ECPv4.5.12.2//NONSGML v1.0//EN
CALSCALE:GREGORIAN
METHOD:PUBLISH
X-WR-CALNAME:VILA - Blog
X-ORIGINAL-URL:https://blog.livrariadavila.com.br
X-WR-CALDESC:Events for VILA - Blog
BEGIN:VEVENT
DTSTART;TZID=America/Sao_Paulo:20221201T190000
DTEND;TZID=America/Sao_Paulo:20221201T210000
DTSTAMP:20260422T180947
CREATED:20221121T200216Z
LAST-MODIFIED:20221121T200216Z
UID:116101-1669921200-1669928400@blog.livrariadavila.com.br
SUMMARY:TEMPO DE FAZER EM REDE: INTEGRAÇÃO DE SABERES\, TECNOLOGIAS CÍVICAS E GESTÃO COLABORATIVA COMO DIMENSÕES DA INOVAÇÃO - JULIANA CAETANO NÊTO - ED. APPRIS
DESCRIPTION: \n  \nEm Tempo de fazer em rede: integração de saberes\, tecnologias cívicas e gestão colaborativa como dimensões da inovação\, caminhamos por uma narrativa histórica e filosófica\, com base em estudos transdisciplinares\, sobre o surgimento de elementos que são vistos como dimensões da inovação em diversas áreas\, desde economia\, política até a área educacional. O livro pretende fazer emergir uma perspectiva histórica para atuais mudanças de paradigmas\, apresentando a potência do conhecimento compartilhado\, das ações coletivas e ativistas em rede\, das estruturas open-source e da horizontalização de processos em diversas esferas\, arando o terreno para atuais e futuras transformações. Esta leitura pretende trazer importantes referências conceituais sobre a cultura contemporânea e sua manifestação em diversas áreas\, como a econômica\, a tecnológica\, a política e a educacional\, conduzindo-nos a uma reflexão sobre como podemos ser agentes na transformação de processos em vista da inovação. \n
URL:https://blog.livrariadavila.com.br/event/tempo-de-fazer-em-rede-integracao-de-saberes-tecnologias-civicas-e-gestao-colaborativa-como-dimensoes-da-inovacao-juliana-caetano-neto-ed-appris/
LOCATION:Rua Pamplona\, 1704\, São Paulo\, São Paulo\, 01405-000\, Brasil
GEO:-23.5702482;-46.6612794
X-APPLE-STRUCTURED-LOCATION;VALUE=URI;X-ADDRESS=Rua Pamplona 1704 São Paulo São Paulo 01405-000 Brasil;X-APPLE-RADIUS=500;X-TITLE=Rua Pamplona\, 1704:geo:-46.6612794,-23.5702482
END:VEVENT
END:VCALENDAR