BEGIN:VCALENDAR
VERSION:2.0
PRODID:-//VILA - Blog - ECPv4.5.12.2//NONSGML v1.0//EN
CALSCALE:GREGORIAN
METHOD:PUBLISH
X-WR-CALNAME:VILA - Blog
X-ORIGINAL-URL:https://blog.livrariadavila.com.br
X-WR-CALDESC:Events for VILA - Blog
BEGIN:VEVENT
DTSTART;TZID=America/Sao_Paulo:20221205T190000
DTEND;TZID=America/Sao_Paulo:20221205T213000
DTSTAMP:20260423T014950
CREATED:20221109T202421Z
LAST-MODIFIED:20221201T162048Z
UID:115981-1670266800-1670275800@blog.livrariadavila.com.br
SUMMARY:TEMPO E OS DIREITOS FUNDAMENTAIS - CARLA CRISTINA ALVES TORQUATO\, JANAINA DE CASTRO MARCHI MEDINA E JUSSARA SCHMITT SANDRI - ED. MIZUNO
DESCRIPTION: \n“Esta obra foi produzida em homenagem ao querido Professor Ricardo Castilho\, organizada e escrita por autores que em sua grande maioria são doutorandos ou em algum momento de sua jornada acadêmica foram alunos do querido Professor.\nComposta por artigos que tratam da temática do tempo e dos direitos fundamentais\, a coletânea é formada por dez textos que transitam entre questões teóricas e práticas que se utilizam dos direitos fundamentais\, apontando suas ramificações com outras áreas do Direito\, seja no campo da propedêutica\, seja no campo da dogmática jurídica.\nA contribuição acadêmica da presente obra possibilitará aos estudiosos do Direito e da Filosofia\, textos reflexivos e críticos a respeito de um tema tão importante e pouco explorado.” \n
URL:https://blog.livrariadavila.com.br/event/tempo-e-os-direitos-fundamentais-carla-cristina-alves-torquato-janaina-de-castro-marchi-medina-e-jussara-schmitt-sandri-ed-mizuno/
LOCATION:Av. Higienópolis\, 618 – Higienópolis\, São Paulo\, SP\, 01238-000\, Brasil
GEO:-23.542049;-46.6577148
X-APPLE-STRUCTURED-LOCATION;VALUE=URI;X-ADDRESS=Av. Higienópolis 618 – Higienópolis São Paulo SP 01238-000 Brasil;X-APPLE-RADIUS=500;X-TITLE=Av. Higienópolis\, 618 – Higienópolis:geo:-46.6577148,-23.542049
END:VEVENT
END:VCALENDAR