BEGIN:VCALENDAR
VERSION:2.0
PRODID:-//VILA - Blog - ECPv4.5.12.2//NONSGML v1.0//EN
CALSCALE:GREGORIAN
METHOD:PUBLISH
X-WR-CALNAME:VILA - Blog
X-ORIGINAL-URL:https://blog.livrariadavila.com.br
X-WR-CALDESC:Events for VILA - Blog
BEGIN:VEVENT
DTSTART;TZID=America/Sao_Paulo:20181108T183000
DTEND;TZID=America/Sao_Paulo:20181108T213000
DTSTAMP:20260420T152142
CREATED:20181015T172055Z
LAST-MODIFIED:20181015T172055Z
UID:22998-1541701800-1541712600@blog.livrariadavila.com.br
SUMMARY:Teoria do processo judicial punitivo não penal
DESCRIPTION: A utilidade do livro ora prefaciado reside não apenas em seu conteúdo manifesta e solidamente científico\, mas também por figurar\, de modo inequívoco\, como fonte de referência e aperfeiçoamento para os profissionais do direito que se interessem pelo tema dos processos punitivos não penais. \nDe Sarah Merçon-Vargas  \nEd. Juspodivm \n
URL:https://blog.livrariadavila.com.br/event/teoria-do-processo-judicial-punitivo-nao-penal/
CATEGORIES:LANÇAMENTOS,SESSÕES DE AUTÓGRAFOS
END:VEVENT
END:VCALENDAR