BEGIN:VCALENDAR
VERSION:2.0
PRODID:-//VILA - Blog - ECPv4.5.12.2//NONSGML v1.0//EN
CALSCALE:GREGORIAN
METHOD:PUBLISH
X-WR-CALNAME:VILA - Blog
X-ORIGINAL-URL:https://blog.livrariadavila.com.br
X-WR-CALDESC:Events for VILA - Blog
BEGIN:VEVENT
DTSTART;TZID=America/Sao_Paulo:20181129T183000
DTEND;TZID=America/Sao_Paulo:20181129T213000
DTSTAMP:20260424T055747
CREATED:20181108T165847Z
LAST-MODIFIED:20181108T165847Z
UID:23435-1543516200-1543527000@blog.livrariadavila.com.br
SUMMARY:Teoria Geral da Arbitragem
DESCRIPTION: A entrada em vigor da Lei de Arbitragem (Lei nº 9.307/1996) e a declaração de sua constitucionalidade pelo Supremo Tribunal Federal criaram uma verdadeira alternativa no Brasil para a solução de litígios. \nDe José Antonio Fichtner\, Sérgio Nelson Mannheimer e André Luis Monteiro \nEd. Gen/Forense \n
URL:https://blog.livrariadavila.com.br/event/teoria-geral-da-arbitragem/
LOCATION:Av. Juscelino Kubitschek\, 2041 - Itaim Bibi\, São Paulo\, São Paulo\, 04543-011\, Brasil
GEO:-23.5914219;-46.6898224
X-APPLE-STRUCTURED-LOCATION;VALUE=URI;X-ADDRESS=Av. Juscelino Kubitschek 2041 - Itaim Bibi São Paulo São Paulo 04543-011 Brasil;X-APPLE-RADIUS=500;X-TITLE=Av. Juscelino Kubitschek\, 2041 - Itaim Bibi:geo:-46.6898224,-23.5914219
CATEGORIES:LANÇAMENTOS,SESSÕES DE AUTÓGRAFOS
END:VEVENT
END:VCALENDAR