BEGIN:VCALENDAR
VERSION:2.0
PRODID:-//VILA - Blog - ECPv4.5.12.2//NONSGML v1.0//EN
CALSCALE:GREGORIAN
METHOD:PUBLISH
X-WR-CALNAME:VILA - Blog
X-ORIGINAL-URL:https://blog.livrariadavila.com.br
X-WR-CALDESC:Events for VILA - Blog
BEGIN:VEVENT
DTSTART;TZID=America/Sao_Paulo:20231006T180000
DTEND;TZID=America/Sao_Paulo:20231006T210000
DTSTAMP:20260420T224316
CREATED:20230926T134951Z
LAST-MODIFIED:20230926T134951Z
UID:119595-1696615200-1696626000@blog.livrariadavila.com.br
SUMMARY:THE BUNNY AND THE DRAGON - ANTONIO BÁEZ – ED. ASES DA LITERATURA
DESCRIPTION: \n  \nUma improvavel amizade entre uma coelha e um dragão em uma viagem magica cheia de aventuras\, desafios e o descobrimento de o verdadeiro significado do amor \n
URL:https://blog.livrariadavila.com.br/event/the-bunny-and-the-dragon-antonio-baez-ed-ases-da-literatura/
LOCATION:Alameda Lorena\, 1501\, São Paulo\, São Paulo\, 01424-005\, Brasil
END:VEVENT
END:VCALENDAR