BEGIN:VCALENDAR
VERSION:2.0
PRODID:-//VILA - Blog - ECPv4.5.12.2//NONSGML v1.0//EN
CALSCALE:GREGORIAN
METHOD:PUBLISH
X-WR-CALNAME:VILA - Blog
X-ORIGINAL-URL:https://blog.livrariadavila.com.br
X-WR-CALDESC:Events for VILA - Blog
BEGIN:VEVENT
DTSTART;TZID=America/Sao_Paulo:20181122T183000
DTEND;TZID=America/Sao_Paulo:20181122T213000
DTSTAMP:20260420T231659
CREATED:20181023T140244Z
LAST-MODIFIED:20181023T140244Z
UID:23196-1542911400-1542922200@blog.livrariadavila.com.br
SUMMARY:TIPO/ICONO/GRAFIA Poética em cartazes de Cinema
DESCRIPTION: Desde a segunda metade da década de 1970\, vem a professora Denise Guimarães dando a público estudos e ensaios de análise literária que acompanham o aparato teórico e crítico que se vem multiplicando no cenário acadêmico das Letras\, desde a divulgação entre nós de trabalhos pioneiros nas áreas da Linguística\, da Poética e da Semiótica\, que incluem nomes hoje internacionalmente conhecidos como clássicos modernos. […] Tem produzido um trabalho de relevo\, não apenas no Paraná\, mas no âmbito nacional\, tanto pela seletividade e propriedade das bases de apoio teórico como pela variedade de textos poéticos analisados\, dentro de sua temática geral que implica o estudo das interfaces entre as funções poética e metalinguística da produção moderna de textos literários. […] \nDe Denise Azevedo Duarte Guimarães  \nEd. Appris \n
URL:https://blog.livrariadavila.com.br/event/tipoiconografia-poetica-em-cartazes-de-cinema/
LOCATION:Avenida do Batel\, nº 1868 – Loja 314 piso L3\, Curitiba\, Paraná\, 80420-090\, Brasil
GEO:-25.443012;-49.2899507
X-APPLE-STRUCTURED-LOCATION;VALUE=URI;X-ADDRESS=Avenida do Batel nº 1868 – Loja 314 piso L3 Curitiba Paraná 80420-090 Brasil;X-APPLE-RADIUS=500;X-TITLE=Avenida do Batel\, nº 1868 – Loja 314 piso L3:geo:-49.2899507,-25.443012
CATEGORIES:LANÇAMENTOS,SESSÕES DE AUTÓGRAFOS
END:VEVENT
END:VCALENDAR