BEGIN:VCALENDAR
VERSION:2.0
PRODID:-//VILA - Blog - ECPv4.5.12.2//NONSGML v1.0//EN
CALSCALE:GREGORIAN
METHOD:PUBLISH
X-WR-CALNAME:VILA - Blog
X-ORIGINAL-URL:https://blog.livrariadavila.com.br
X-WR-CALDESC:Events for VILA - Blog
BEGIN:VEVENT
DTSTART;TZID=America/Sao_Paulo:20221117T190000
DTEND;TZID=America/Sao_Paulo:20221117T213000
DTSTAMP:20260420T220528
CREATED:20221019T195812Z
LAST-MODIFIED:20221019T195812Z
UID:115700-1668711600-1668720600@blog.livrariadavila.com.br
SUMMARY:TODA CICATRIZ DESAPARECE - ROGÉRIO PEREIRA - ED. MARALTO
DESCRIPTION: \n  \nToda cicatriz desaparece reúne quarenta textos de Rogério Pereira\, selecionados pelo escritor Luiz Ruffato\, que têm como tema a infância. O pai bêbado e violento\, a mãe doente e amargurada\, a irmã morta muito jovem\, a pobreza\, a lembrança das avós e de antigos colegas de escola compõem as histórias contadas e recontadas pelo adulto impregnado pelo menino magrela e daltônico. Uma bola de plástico\, um guarda-chuva velho e banhos em chuveiros improvisados com latas de tinta\, assim como outros elementos recorrentes nas narrativas\, estruturam uma infância indelével na vida do escritor adulto. \n  \n
URL:https://blog.livrariadavila.com.br/event/toda-cicatriz-desaparece-rogerio-pereira-ed-maralto/
LOCATION:Avenida do Batel\, nº 1868 – Loja 314 piso L3\, Curitiba\, Paraná\, 80420-090\, Brasil
GEO:-25.443012;-49.2899507
X-APPLE-STRUCTURED-LOCATION;VALUE=URI;X-ADDRESS=Avenida do Batel nº 1868 – Loja 314 piso L3 Curitiba Paraná 80420-090 Brasil;X-APPLE-RADIUS=500;X-TITLE=Avenida do Batel\, nº 1868 – Loja 314 piso L3:geo:-49.2899507,-25.443012
END:VEVENT
END:VCALENDAR