BEGIN:VCALENDAR
VERSION:2.0
PRODID:-//VILA - Blog - ECPv4.5.12.2//NONSGML v1.0//EN
CALSCALE:GREGORIAN
METHOD:PUBLISH
X-WR-CALNAME:VILA - Blog
X-ORIGINAL-URL:https://blog.livrariadavila.com.br
X-WR-CALDESC:Events for VILA - Blog
BEGIN:VEVENT
DTSTART;TZID=America/Sao_Paulo:20171128T183000
DTEND;TZID=America/Sao_Paulo:20171128T213000
DTSTAMP:20260421T034653
CREATED:20171109T183710Z
LAST-MODIFIED:20171109T183710Z
UID:2543-1511893800-1511904600@blog.livrariadavila.com.br
SUMMARY:Todo domingo
DESCRIPTION:De Cacá Diegues \nEd. Cobogó \nHaverá bate-papo com o autor \n
URL:https://blog.livrariadavila.com.br/event/todo-domingo/
CATEGORIES:LANÇAMENTOS,SESSÕES DE AUTÓGRAFOS
END:VEVENT
END:VCALENDAR