BEGIN:VCALENDAR
VERSION:2.0
PRODID:-//VILA - Blog - ECPv4.5.12.2//NONSGML v1.0//EN
CALSCALE:GREGORIAN
METHOD:PUBLISH
X-WR-CALNAME:VILA - Blog
X-ORIGINAL-URL:https://blog.livrariadavila.com.br
X-WR-CALDESC:Events for VILA - Blog
BEGIN:VEVENT
DTSTART;TZID=America/Sao_Paulo:20231007T140000
DTEND;TZID=America/Sao_Paulo:20231007T170000
DTSTAMP:20260420T083903
CREATED:20230926T210046Z
LAST-MODIFIED:20231003T161624Z
UID:119626-1696687200-1696698000@blog.livrariadavila.com.br
SUMMARY:TODO MUNDO JÁ SENTIU ISSO - PEDRO - ED. ROCCO
DESCRIPTION: \n  \nNOVO LIVRO DO AUTOR DE UM CARTÃO PARA VOCÊ A maior parte das inseguranças surge a partir de uma simples pergunta: “será que eu estou sozinho?” Com a ajuda de 48 cartões destacáveis e inéditos\, que expressam muitos sentimentos cotidianos diferentes\, que todo mundo já ouviu\, sentiu ou viveu\, você vai conseguir responder a essa pergunta com um belíssimo e sonoro: “ainda bem que eu não estou sozinho!” Você vai perceber que tem mais gente aqui. No mesmo barco\, no mesmo caminho\, no mesmo dilema\, na mesma furada\, na mesma jornada\, na mesma luta\, na mesma onda\, na mesma página e na mesma situação. Tem mais gente aqui\, passando\, sentindo e vivendo as mesmas coisas que você. Todo mundo já sentiu isso é um livro de acolhimento\, de afeto\, de alívio\, de amor e de confirmação. Eu tenho certeza que essas palavras vão te abraçar e vão trazer aquela certeza boa do pertencimento\, para que você possa dar essa resposta sem hesitar. Você não está sozinho. Nós estamos juntos. \n
URL:https://blog.livrariadavila.com.br/event/todo-mundo-ja-sentiu-isso-pedro-ed-rocco/
LOCATION:Av. Higienópolis\, 618 – Higienópolis\, São Paulo\, SP\, 01238-000\, Brasil
GEO:-23.542049;-46.6577148
X-APPLE-STRUCTURED-LOCATION;VALUE=URI;X-ADDRESS=Av. Higienópolis 618 – Higienópolis São Paulo SP 01238-000 Brasil;X-APPLE-RADIUS=500;X-TITLE=Av. Higienópolis\, 618 – Higienópolis:geo:-46.6577148,-23.542049
END:VEVENT
END:VCALENDAR