BEGIN:VCALENDAR
VERSION:2.0
PRODID:-//VILA - Blog - ECPv4.5.12.2//NONSGML v1.0//EN
CALSCALE:GREGORIAN
METHOD:PUBLISH
X-WR-CALNAME:VILA - Blog
X-ORIGINAL-URL:https://blog.livrariadavila.com.br
X-WR-CALDESC:Events for VILA - Blog
BEGIN:VEVENT
DTSTART;TZID=America/Sao_Paulo:20240731T180000
DTEND;TZID=America/Sao_Paulo:20240731T210000
DTSTAMP:20260422T132504
CREATED:20240722T142442Z
LAST-MODIFIED:20240722T142442Z
UID:123353-1722448800-1722459600@blog.livrariadavila.com.br
SUMMARY:TRATADO DE SEMIÓTICA MUSICAL A LINGUAGEM DO SAMBA. BATUCADA BRASILEIRA - TEORIAS E ANÁLISES - NÍCIA RIBAS DAVILA E SILVIO DE SANTANA JUNIOR – ED. CRV
DESCRIPTION: \n  \nResgatando as origens do Samba\, ouvindo\, executando e grafando suas vertentes musicais afro-brasileiras (Candomblé\, Umbanda\, MPB\, Batucadas e Baterias das Escolas de Samba) durante mais de 40 anos\, a fim de dedicar-se à “linguagem rítmico-melódica”\, a autora diplomou-se na Escola Semiótica de Paris\, Universidade Sorbonne\, Paris III\, para a elaboração da análise do texto musical “Batucada” – O samba em percussões. Coloca-se aqui o grande mérito das teorias semióticas aplicadas\, e de seus fundadores e Mestres\, Algirdas Julien Greimas e Jean-Claude Coquet. Desses pilares surge o presente Tratado\, numa inédita Teoria Semiótica Musical Daviliana\, cuja Forma da Expressão e a do Conteúdo se revelam isentas de qualquer significação verbal. \nA autora\, mestre e doutora sob a direção e orientação desses eminentes professores\, e pós-doutorada (sob a direção de Jean-Claude Coquet)\, constrói seu Corpus desde os primórdios das percussões no Brasil\, conciliando seu domínio com a linguagem popular e a acadêmica\, sendo percussionista\, professora\, pianista\, maestrina\, linguista\, semioticista\, artista plástica e poetisa. \nNícia descobriu e musicalmente grafou o “Motivo do Balanço” e seu “Núcleo Sêmico” nesta obra (aquele que “faz-mexer” mediante a “ginga” que o Samba provoca)\, responsável pelo sucesso do Carnaval do Rio de Janeiro que atrai o turismo internacional ao Maior Espetáculo da Terra. \nTrata-se de uma pesquisa inédita do SAMBA\, cujas percussões respondem pela autonomia do sistema\, como um autêntico fenômeno Musical Brasileiro\, na admirável trajetória acadêmico-científica da autora. \nNícia tocou seu repique na Bateria nota Dez da “União da Ilha” no Carnaval do Rio\, em 1988\, agradecendo o Batismo da Escola de Samba francesa “Unidos da Tia Nícia” (E.S.U.T.N.) ao Mestre Paulão\, e à ”Escola de Samba União da Ilha do Governador” – Bateria Estandarte de Ouro/1985. \n
URL:https://blog.livrariadavila.com.br/event/tratado-de-semiotica-musical-a-linguagem-do-samba-batucada-brasileira-teorias-e-analises-nicia-ribas-davila-e-silvio-de-santana-junior-ed-crv/
LOCATION:Avenida do Batel\, nº 1868 – Loja 314 piso L3\, Curitiba\, Paraná\, 80420-090\, Brasil
GEO:-25.443012;-49.2899507
X-APPLE-STRUCTURED-LOCATION;VALUE=URI;X-ADDRESS=Avenida do Batel nº 1868 – Loja 314 piso L3 Curitiba Paraná 80420-090 Brasil;X-APPLE-RADIUS=500;X-TITLE=Avenida do Batel\, nº 1868 – Loja 314 piso L3:geo:-49.2899507,-25.443012
END:VEVENT
END:VCALENDAR