BEGIN:VCALENDAR
VERSION:2.0
PRODID:-//VILA - Blog - ECPv4.5.12.2//NONSGML v1.0//EN
CALSCALE:GREGORIAN
METHOD:PUBLISH
X-WR-CALNAME:VILA - Blog
X-ORIGINAL-URL:https://blog.livrariadavila.com.br
X-WR-CALDESC:Events for VILA - Blog
BEGIN:VEVENT
DTSTART;TZID=America/Sao_Paulo:20190326T183000
DTEND;TZID=America/Sao_Paulo:20190326T213000
DTSTAMP:20260419T170015
CREATED:20190322T185907Z
LAST-MODIFIED:20190322T185907Z
UID:95709-1553625000-1553635800@blog.livrariadavila.com.br
SUMMARY:Tribunal de contas da união e seu controle
DESCRIPTION: De André Rosilho \nEd. Quartier Latin \n  \n  \n  \n  \n  \n  \n  \n  \n
URL:https://blog.livrariadavila.com.br/event/tribunal-de-contas-da-uniao-e-seu-controle/
CATEGORIES:LANÇAMENTOS,SESSÕES DE AUTÓGRAFOS
END:VEVENT
END:VCALENDAR