BEGIN:VCALENDAR
VERSION:2.0
PRODID:-//VILA - Blog - ECPv4.5.12.2//NONSGML v1.0//EN
CALSCALE:GREGORIAN
METHOD:PUBLISH
X-WR-CALNAME:VILA - Blog
X-ORIGINAL-URL:https://blog.livrariadavila.com.br
X-WR-CALDESC:Events for VILA - Blog
BEGIN:VEVENT
DTSTART;TZID=America/Sao_Paulo:20190314T183000
DTEND;TZID=America/Sao_Paulo:20190314T213000
DTSTAMP:20260420T211129
CREATED:20190222T173323Z
LAST-MODIFIED:20190222T173323Z
UID:93579-1552588200-1552599000@blog.livrariadavila.com.br
SUMMARY:Tributação da Renda nos Planos de Opção de Compra de Ações
DESCRIPTION: A relação entre empregador e empregado\, companhia e trabalhador é permeada pelo conﬂito de interesses que necessita ser alinhado\, de forma a maximizar o emprego de esforços e a obtenção de resultados bem como minimizar conﬂitos na tomada de risco. Nesse contexto é que são pensados não só os instrumentos de remuneração\, mas também instrumentos que são capazes de ajudar nesse alinhamento sem que exista uma remuneração entregue pela companhia ao trabalhador. Os planos de opção de compra de ações\, um desses instrumentos\, são largamente utilizados em outros países e\, no Brasil\, não vem sendo diferente. Ocorre que\, diferente do que ocorre em outros países\, como mostrado no último Capítulo deste trabalho\, no Brasil o legislador não dispensou um tratamento especíﬁco ao eventual ganho auferido pelos beneﬁciários desse tipo de instrumento. Os planos de opção de compra de ações\, no entanto\, foram objeto de normatização contábil. E\, na linha do recente alinhamento promovido pela Lei nº 12.973/14 entre contabilidade e tributação das pessoas jurídicas\, tratou-se da dedutibilidade da despesa registrada em decorrência da instituição de um plano de opção de compra de ações para ﬁns de apuração do Imposto sobre a Renda da Pessoa Jurídica e da Contribuição Social sobre o Lucro Líquido. As dúvidas quanto à tributação da renda eventualmente obtida pelos beneﬁciários dos planos e incidência de contribuições previdenciárias\, no entanto\, permanecem. Este trabalho surge da tentativa de solucionar parte dessas questões. \nDe Giácomo Paro \nEd. Lumen Juris \n
URL:https://blog.livrariadavila.com.br/event/tributacao-da-renda-nos-planos-de-opcao-de-compra-de-acoes/
CATEGORIES:LANÇAMENTOS,SESSÕES DE AUTÓGRAFOS
END:VEVENT
END:VCALENDAR