BEGIN:VCALENDAR
VERSION:2.0
PRODID:-//VILA - Blog - ECPv4.5.12.2//NONSGML v1.0//EN
CALSCALE:GREGORIAN
METHOD:PUBLISH
X-WR-CALNAME:VILA - Blog
X-ORIGINAL-URL:https://blog.livrariadavila.com.br
X-WR-CALDESC:Events for VILA - Blog
BEGIN:VEVENT
DTSTART;TZID=America/Sao_Paulo:20190414T113000
DTEND;TZID=America/Sao_Paulo:20190414T133000
DTSTAMP:20260420T153815
CREATED:20190402T141347Z
LAST-MODIFIED:20190404T181138Z
UID:95974-1555241400-1555248600@blog.livrariadavila.com.br
SUMMARY:Tributo: João Carlos Marinho
DESCRIPTION:Convidamos a todos para a cerimônia em homenagem a João Carlos Marinho\, por ocasião dos 30 dias de seu falecimento. Como sua religião era a literatura\, nenhum templo poderia ser mais apropriado para esse encontro do que uma livraria. Lá\, ele estará silenciosamente acompanhado daqueles que ele tanto amou\, que o tornaram mais vivo. De nós\, alguns que o conheceram muito bem\, terá a presença e as palavras. \nServiço de estacionamento no local. \nApoio: Editora Global e Livraria da Vila \n
URL:https://blog.livrariadavila.com.br/event/tributo-joao-carlos-marinho/
LOCATION:Rua Fradique Coutinho\, 915 - Pinheiros\, São Paulo\, São Paulo\, 05416-011\, Brasil
GEO:-23.5592934;-46.6892019
X-APPLE-STRUCTURED-LOCATION;VALUE=URI;X-ADDRESS=Rua Fradique Coutinho 915 - Pinheiros São Paulo São Paulo 05416-011 Brasil;X-APPLE-RADIUS=500;X-TITLE=Rua Fradique Coutinho\, 915 - Pinheiros:geo:-46.6892019,-23.5592934
CATEGORIES:HOMENAGENS
END:VEVENT
END:VCALENDAR