BEGIN:VCALENDAR
VERSION:2.0
PRODID:-//VILA - Blog - ECPv4.5.12.2//NONSGML v1.0//EN
CALSCALE:GREGORIAN
METHOD:PUBLISH
X-WR-CALNAME:VILA - Blog
X-ORIGINAL-URL:https://blog.livrariadavila.com.br
X-WR-CALDESC:Events for VILA - Blog
BEGIN:VEVENT
DTSTART;TZID=America/Sao_Paulo:20181018T190000
DTEND;TZID=America/Sao_Paulo:20181018T213000
DTSTAMP:20260422T122913
CREATED:20181001T190321Z
LAST-MODIFIED:20181001T190321Z
UID:22704-1539889200-1539898200@blog.livrariadavila.com.br
SUMMARY:Turismo para leigos e curiosos
DESCRIPTION: \nMuito do que sempre tivemos vontade de saber sobre o mundo das viagens e do turismo\, descrito ao longo de um roteiro panorâmico que vai e vem entre a prática e a teoria. \nInteressante\, diferente\, divertido e\, à sua maneira\, instrutivo e didático\, TURISMO para leigos e curiosos\, tenta nos oferecer uma nova visão sobre um dos fenômenos mais presentes da vida contemporânea. \nViajando nas palavras e com histórias bem criativas\, o livro nos leva para um passeio através dos recantos mais escondidos e menos conhecidos de quem visita o tema pela primeira vez. \nUma verdadeira montanha-russa dando mil voltas para sacudir velhos conceitos e trazer à tona um carrossel de novas reflexões! \nDe David Leslie  \nEd. Primavera Editorial \n
URL:https://blog.livrariadavila.com.br/event/turismo-para-leigos-e-curiosos/
CATEGORIES:LANÇAMENTOS,SESSÕES DE AUTÓGRAFOS
END:VEVENT
END:VCALENDAR