BEGIN:VCALENDAR
VERSION:2.0
PRODID:-//VILA - Blog - ECPv4.5.12.2//NONSGML v1.0//EN
CALSCALE:GREGORIAN
METHOD:PUBLISH
X-WR-CALNAME:VILA - Blog
X-ORIGINAL-URL:https://blog.livrariadavila.com.br
X-WR-CALDESC:Events for VILA - Blog
BEGIN:VEVENT
DTSTART;TZID=America/Sao_Paulo:20221109T180000
DTEND;TZID=America/Sao_Paulo:20221109T210000
DTSTAMP:20260423T145043
CREATED:20221028T195955Z
LAST-MODIFIED:20221031T141631Z
UID:115844-1668016800-1668027600@blog.livrariadavila.com.br
SUMMARY:UM NOVO OLHAR À POLÍTICA CRIMINAL E À GESTÃO PENITENCIÁRIA - CLÁUDIO TUCCI JUNIOR - ED. APPRIS
DESCRIPTION: \n  \nEsta obra é fruto de uma pesquisa que aborda a gestão dos presídios na tentativa de reformar o ineficiente sistema penitenciário atual brasileiro\, com diversos problemas sociais\, rebeliões\, fugas\, corrupção\, ineficiência na reabilitação\, institucionalização do crime organizado — fatores que impossibilitam o retorno adequado do apenado ao convívio social. A parceria público-privada nos presídios surge como uma proposta e se configura como um complemento ao controle do Estado\, que pretende redimensionar a punição desmedida e ineficaz do encarceramento atribuída a ele. Essa complementação procura dar mais eficiência à gestão da coisa pública em parceria com a iniciativa privada\, propondo uma possível solução para os graves problemas encontrados atualmente. Partindo dessa premissa\, admite-se a continuidade da política do encarceramento\, porém\, agora\, com uso racional do orçamento\, promovendo a eficácia da máquina estatal. Uma concepção adequada para a gestão penitenciária e também para ter e ser assegurado o tratamento condizente aos que se encontram encarcerados. Essa perspectiva implica um olhar sobre as características internas do sistema prisional\, presos\, familiares\, profissionais\, com respeito a uma mudança de critérios\, mas também às novas formas da gestão prisional que considera a cogestão e as parcerias nos serviços ditos acessórios no cumprimento da pena. Boa experiência está demonstrada no único modelo prisional nesse regime de parceria. A pretensão do livro é mostrar a análise feita quanto à eficácia da administração privada do Complexo Prisional da Cidade de Ribeirão das Neves. \n
URL:https://blog.livrariadavila.com.br/event/um-novo-olhar-a-politica-criminal-e-a-gestao-penitenciaria-claudio-tucci-junior-ed-appris/
LOCATION:R. Treze de Maio\, 1947 - Bela Vista\, São Paulo\, São Paulo\, 01327-900
END:VEVENT
END:VCALENDAR