BEGIN:VCALENDAR
VERSION:2.0
PRODID:-//VILA - Blog - ECPv4.5.12.2//NONSGML v1.0//EN
CALSCALE:GREGORIAN
METHOD:PUBLISH
X-WR-CALNAME:VILA - Blog
X-ORIGINAL-URL:https://blog.livrariadavila.com.br
X-WR-CALDESC:Events for VILA - Blog
BEGIN:VEVENT
DTSTART;TZID=America/Sao_Paulo:20240725T180000
DTEND;TZID=America/Sao_Paulo:20240725T210000
DTSTAMP:20260422T175254
CREATED:20240719T131110Z
LAST-MODIFIED:20240719T131110Z
UID:123333-1721930400-1721941200@blog.livrariadavila.com.br
SUMMARY:UM QUÍMICO BRILHANTE -  RIBEIRO SOUSA – ED. EFICAZ
DESCRIPTION: \n  \nWaldemar Samuel Lazzuri\, um nome que ressoa entre os gigantes do empreendedorismo brasileiro\, nos convida a percorrer os caminhos fascinantes de uma vida dedicada às resinas e tintas automotivas. Nascido em São Bernardo do Campo\, filho de imigrantes italianos\, sua jornada é um testemunho de determinação\, coragem e integridade. Nesta narrativa cativante\, mergulhamos nas raízes dos colonos italianos e testemunhamos o florescer de um legado familiar marcado pela excelência e inovação. Desde os primeiros passos no armazém do pai\, até os desafios enfrentados como empresário em um mercado dominado por multinacionais\, cada página revela a essência de um homem movido pela paixão e pela busca incessante pela qualidade. “Um Químico Brilhante” não apenas retrata a ascensão de um visionário\, mas também celebra a força dos laços familiares e o poder da perseverança. É um convite para todos aqueles que buscam inspiração em trajetórias de sucesso\, uma ode à resiliência e ao espírito empreendedor que moldam o tecido da nossa sociedade. Descubra a história por trás do homem que desafiou os limites do possível\, que transformou sonhos em realidade e cujo legado continuará a iluminar o caminho daqueles que ousam sonhar. \n
URL:https://blog.livrariadavila.com.br/event/um-quimico-brilhante-ribeiro-sousa-ed-eficaz/
LOCATION:Av. Higienópolis\, 618 – Higienópolis\, São Paulo\, SP\, 01238-000\, Brasil
GEO:-23.542049;-46.6577148
X-APPLE-STRUCTURED-LOCATION;VALUE=URI;X-ADDRESS=Av. Higienópolis 618 – Higienópolis São Paulo SP 01238-000 Brasil;X-APPLE-RADIUS=500;X-TITLE=Av. Higienópolis\, 618 – Higienópolis:geo:-46.6577148,-23.542049
END:VEVENT
END:VCALENDAR