BEGIN:VCALENDAR
VERSION:2.0
PRODID:-//VILA - Blog - ECPv4.5.12.2//NONSGML v1.0//EN
CALSCALE:GREGORIAN
METHOD:PUBLISH
X-WR-CALNAME:VILA - Blog
X-ORIGINAL-URL:https://blog.livrariadavila.com.br
X-WR-CALDESC:Events for VILA - Blog
BEGIN:VEVENT
DTSTART;TZID=America/Sao_Paulo:20191211T183000
DTEND;TZID=America/Sao_Paulo:20191211T213000
DTSTAMP:20260422T092531
CREATED:20191205T145216Z
LAST-MODIFIED:20191205T145255Z
UID:107277-1576089000-1576099800@blog.livrariadavila.com.br
SUMMARY:Um tratado de cura através das essências da natureza
DESCRIPTION:O Sistema Deuseluz de Integração do Ser com a Natureza é um sistema de florais que tem como propósito trazer os elementos da natureza em suas infinitas frequências de vibração para harmonizar\, equilibrar\, energizar e resgatar a saúde do Ser Humano. Ele permite que o indivíduo desenvolva o processo em si mesmo\, além de poder utilizá-lo terapeuticamente em outras pessoas. Foi embasado em estudos herméticos\, alquímicos\, astrológicos\, magísticos\, além das ciências convencionais como a psicossomática\, a biologia\, a naturologia\, a fitoterapia\, a neurociência\, a medicina oriental\, a cromoterapia\, a física quântica\, as terapias florais\, entre outras. Este livro traz as sete vibrações da natureza\, que consistem em: Essências Vibracionais de Água\, de Terrenos\, de Folhas\, de Pedras\, de Animais\, de Flores e das Sete Irradiações Divinas. \n  \nDe Deuse Mantovani \nEd. Madras \n\nLançamento e bate-papo.\n
URL:https://blog.livrariadavila.com.br/event/um-tratado-de-cura-atraves-das-essencias-da-natureza/
CATEGORIES:BATE-PAPO,LANÇAMENTOS,SESSÕES DE AUTÓGRAFOS
END:VEVENT
END:VCALENDAR