BEGIN:VCALENDAR
VERSION:2.0
PRODID:-//VILA - Blog - ECPv4.5.12.2//NONSGML v1.0//EN
CALSCALE:GREGORIAN
METHOD:PUBLISH
X-WR-CALNAME:VILA - Blog
X-ORIGINAL-URL:https://blog.livrariadavila.com.br
X-WR-CALDESC:Events for VILA - Blog
BEGIN:VEVENT
DTSTART;TZID=America/Sao_Paulo:20221112T160000
DTEND;TZID=America/Sao_Paulo:20221112T180000
DTSTAMP:20260423T072404
CREATED:20221027T192439Z
LAST-MODIFIED:20221027T192439Z
UID:115828-1668268800-1668276000@blog.livrariadavila.com.br
SUMMARY:UMA BIBLIOTECA MONSTRUOSAMENTE DIFERENTE - CAROLINA MICHELUCI GARÇON - ED. UIRAPURU
DESCRIPTION: \n  \nEM UMA FLORESTA QUE\, COMO TODAS AS FLORESTAS\, PRECISAVA SER PRESERVADA\, UM CURIOSO MONSTRINHO DESCOBRE QUE OS LIVROS PODEM NOS LEVAR A MUNDOS MARAVILHOSOS\, JAMAIS IMAGINADOS. COM A AJUDA DO PAPAI MONSTRO O PEQUENINO ENTENDE O PODER DA LEITURA E TEM UMA IDEIA BRILHANTE. NÃO DEMORA MUITO PARA QUE A FAMÍLIA MONSTRO COLOQUE A IDEIA DO MONSTRINHO EM PRÁTICA\, DE MODO QUE OS OUTROS MONSTROS TAMBÉM TENHAM ACESSO A ESSE FANTÁSTICO MUNDO MÁGICO. \n
URL:https://blog.livrariadavila.com.br/event/uma-biblioteca-monstruosamente-diferente-carolina-micheluci-garcon-ed-uirapuru/
LOCATION:Av. Higienópolis\, 618 – Higienópolis\, São Paulo\, SP\, 01238-000\, Brasil
GEO:-23.542049;-46.6577148
X-APPLE-STRUCTURED-LOCATION;VALUE=URI;X-ADDRESS=Av. Higienópolis 618 – Higienópolis São Paulo SP 01238-000 Brasil;X-APPLE-RADIUS=500;X-TITLE=Av. Higienópolis\, 618 – Higienópolis:geo:-46.6577148,-23.542049
END:VEVENT
END:VCALENDAR