BEGIN:VCALENDAR
VERSION:2.0
PRODID:-//VILA - Blog - ECPv4.5.12.2//NONSGML v1.0//EN
CALSCALE:GREGORIAN
METHOD:PUBLISH
X-WR-CALNAME:VILA - Blog
X-ORIGINAL-URL:https://blog.livrariadavila.com.br
X-WR-CALDESC:Events for VILA - Blog
BEGIN:VEVENT
DTSTART;TZID=America/Sao_Paulo:20251129T150000
DTEND;TZID=America/Sao_Paulo:20251129T180000
DTSTAMP:20260425T163231
CREATED:20250926T154838Z
LAST-MODIFIED:20251003T151155Z
UID:130224-1764428400-1764439200@blog.livrariadavila.com.br
SUMMARY:UMA HISTÓRIA MUITO SEMISCONFLÁUTICA – FAFÁ CONTA – ED. CIRANDA NA ESCOLA
DESCRIPTION: \n\n\n\n\nO que seria uma história semisconfláutica? Será que\, em uma história dessas\, a gata seria apenas um bichano peludo e a madame uma mulher comum? Se você ficou um tanto assim encafifado\, posso adiantar que no final tudo foi muito bem palimpassado. Uma narrativa cheia de festerê com a língua portuguesa\, criada por Fafá Conta e ilustrada por Carla Irusta.\n\n\n\n\n
URL:https://blog.livrariadavila.com.br/event/uma-historia-muito-semisconflautica-fafa-conta-ed-ciranda-na-escola/
LOCATION:Rua professor Pedro Viriato Parigot de Souza\, 600 - Mossunguê\, Curitiba\, Paraná\, 81200-100\, Brasil
CATEGORIES:LANÇAMENTOS,SESSÕES DE AUTÓGRAFOS
END:VEVENT
END:VCALENDAR